BEGIN:VCALENDAR
VERSION:2.0
PRODID:-//Arizona Artists Guild - ECPv6.15.20//NONSGML v1.0//EN
CALSCALE:GREGORIAN
METHOD:PUBLISH
X-WR-CALNAME:Arizona Artists Guild
X-ORIGINAL-URL:https://arizonaartistsguild.net
X-WR-CALDESC:Events for Arizona Artists Guild
REFRESH-INTERVAL;VALUE=DURATION:PT1H
X-Robots-Tag:noindex
X-PUBLISHED-TTL:PT1H
BEGIN:VTIMEZONE
TZID:America/Phoenix
BEGIN:STANDARD
TZOFFSETFROM:-0700
TZOFFSETTO:-0700
TZNAME:MST
DTSTART:20250101T000000
END:STANDARD
END:VTIMEZONE
BEGIN:VEVENT
DTSTART;TZID=America/Phoenix:20260508T080000
DTEND;TZID=America/Phoenix:20260508T120000
DTSTAMP:20260421T143812
CREATED:20260421T180802Z
LAST-MODIFIED:20260421T180802Z
UID:10018561-1778227200-1778241600@arizonaartistsguild.net
SUMMARY:Open Studio
DESCRIPTION:
URL:https://arizonaartistsguild.net/events/open-studio-2/2026-05-08/
LOCATION:Arizona Artists Guild\, 18411 N. 7th Avenue\, Phoenix\, AZ\, 85023\, United States
CATEGORIES:Open Studio
END:VEVENT
BEGIN:VEVENT
DTSTART;TZID=America/Phoenix:20260515T080000
DTEND;TZID=America/Phoenix:20260515T120000
DTSTAMP:20260421T143812
CREATED:20260421T180802Z
LAST-MODIFIED:20260421T180802Z
UID:10018562-1778832000-1778846400@arizonaartistsguild.net
SUMMARY:Open Studio
DESCRIPTION:
URL:https://arizonaartistsguild.net/events/open-studio-2/2026-05-15/
LOCATION:Arizona Artists Guild\, 18411 N. 7th Avenue\, Phoenix\, AZ\, 85023\, United States
CATEGORIES:Open Studio
END:VEVENT
BEGIN:VEVENT
DTSTART;TZID=America/Phoenix:20260529T080000
DTEND;TZID=America/Phoenix:20260529T120000
DTSTAMP:20260421T143812
CREATED:20260421T180802Z
LAST-MODIFIED:20260421T180802Z
UID:10018564-1780041600-1780056000@arizonaartistsguild.net
SUMMARY:Open Studio
DESCRIPTION:
URL:https://arizonaartistsguild.net/events/open-studio-2/2026-05-29/
LOCATION:Arizona Artists Guild\, 18411 N. 7th Avenue\, Phoenix\, AZ\, 85023\, United States
CATEGORIES:Open Studio
END:VEVENT
BEGIN:VEVENT
DTSTART;TZID=America/Phoenix:20260703T080000
DTEND;TZID=America/Phoenix:20260703T120000
DTSTAMP:20260421T143812
CREATED:20260421T180802Z
LAST-MODIFIED:20260421T180802Z
UID:10018569-1783065600-1783080000@arizonaartistsguild.net
SUMMARY:Open Studio
DESCRIPTION:
URL:https://arizonaartistsguild.net/events/open-studio-2/2026-07-03/
LOCATION:Arizona Artists Guild\, 18411 N. 7th Avenue\, Phoenix\, AZ\, 85023\, United States
CATEGORIES:Open Studio
END:VEVENT
BEGIN:VEVENT
DTSTART;TZID=America/Phoenix:20260710T080000
DTEND;TZID=America/Phoenix:20260710T120000
DTSTAMP:20260421T143812
CREATED:20260421T180802Z
LAST-MODIFIED:20260421T180802Z
UID:10018570-1783670400-1783684800@arizonaartistsguild.net
SUMMARY:Open Studio
DESCRIPTION:
URL:https://arizonaartistsguild.net/events/open-studio-2/2026-07-10/
LOCATION:Arizona Artists Guild\, 18411 N. 7th Avenue\, Phoenix\, AZ\, 85023\, United States
CATEGORIES:Open Studio
END:VEVENT
BEGIN:VEVENT
DTSTART;TZID=America/Phoenix:20260717T080000
DTEND;TZID=America/Phoenix:20260717T120000
DTSTAMP:20260421T143812
CREATED:20260421T180802Z
LAST-MODIFIED:20260421T180802Z
UID:10018571-1784275200-1784289600@arizonaartistsguild.net
SUMMARY:Open Studio
DESCRIPTION:
URL:https://arizonaartistsguild.net/events/open-studio-2/2026-07-17/
LOCATION:Arizona Artists Guild\, 18411 N. 7th Avenue\, Phoenix\, AZ\, 85023\, United States
CATEGORIES:Open Studio
END:VEVENT
BEGIN:VEVENT
DTSTART;TZID=America/Phoenix:20260724T080000
DTEND;TZID=America/Phoenix:20260724T120000
DTSTAMP:20260421T143812
CREATED:20260421T180802Z
LAST-MODIFIED:20260421T180802Z
UID:10018572-1784880000-1784894400@arizonaartistsguild.net
SUMMARY:Open Studio
DESCRIPTION:
URL:https://arizonaartistsguild.net/events/open-studio-2/2026-07-24/
LOCATION:Arizona Artists Guild\, 18411 N. 7th Avenue\, Phoenix\, AZ\, 85023\, United States
CATEGORIES:Open Studio
END:VEVENT
BEGIN:VEVENT
DTSTART;TZID=America/Phoenix:20260731T080000
DTEND;TZID=America/Phoenix:20260731T120000
DTSTAMP:20260421T143812
CREATED:20260421T180802Z
LAST-MODIFIED:20260421T180802Z
UID:10018573-1785484800-1785499200@arizonaartistsguild.net
SUMMARY:Open Studio
DESCRIPTION:
URL:https://arizonaartistsguild.net/events/open-studio-2/2026-07-31/
LOCATION:Arizona Artists Guild\, 18411 N. 7th Avenue\, Phoenix\, AZ\, 85023\, United States
CATEGORIES:Open Studio
END:VEVENT
BEGIN:VEVENT
DTSTART;TZID=America/Phoenix:20260807T080000
DTEND;TZID=America/Phoenix:20260807T120000
DTSTAMP:20260421T143812
CREATED:20260421T180802Z
LAST-MODIFIED:20260421T180802Z
UID:10018574-1786089600-1786104000@arizonaartistsguild.net
SUMMARY:Open Studio
DESCRIPTION:
URL:https://arizonaartistsguild.net/events/open-studio-2/2026-08-07/
LOCATION:Arizona Artists Guild\, 18411 N. 7th Avenue\, Phoenix\, AZ\, 85023\, United States
CATEGORIES:Open Studio
END:VEVENT
BEGIN:VEVENT
DTSTART;TZID=America/Phoenix:20260814T080000
DTEND;TZID=America/Phoenix:20260814T120000
DTSTAMP:20260421T143812
CREATED:20260421T180802Z
LAST-MODIFIED:20260421T180802Z
UID:10018575-1786694400-1786708800@arizonaartistsguild.net
SUMMARY:Open Studio
DESCRIPTION:
URL:https://arizonaartistsguild.net/events/open-studio-2/2026-08-14/
LOCATION:Arizona Artists Guild\, 18411 N. 7th Avenue\, Phoenix\, AZ\, 85023\, United States
CATEGORIES:Open Studio
END:VEVENT
BEGIN:VEVENT
DTSTART;TZID=America/Phoenix:20260821T080000
DTEND;TZID=America/Phoenix:20260821T120000
DTSTAMP:20260421T143812
CREATED:20260421T180802Z
LAST-MODIFIED:20260421T180802Z
UID:10018576-1787299200-1787313600@arizonaartistsguild.net
SUMMARY:Open Studio
DESCRIPTION:
URL:https://arizonaartistsguild.net/events/open-studio-2/2026-08-21/
LOCATION:Arizona Artists Guild\, 18411 N. 7th Avenue\, Phoenix\, AZ\, 85023\, United States
CATEGORIES:Open Studio
END:VEVENT
BEGIN:VEVENT
DTSTART;TZID=America/Phoenix:20260828T080000
DTEND;TZID=America/Phoenix:20260828T120000
DTSTAMP:20260421T143812
CREATED:20260421T180802Z
LAST-MODIFIED:20260421T180802Z
UID:10018577-1787904000-1787918400@arizonaartistsguild.net
SUMMARY:Open Studio
DESCRIPTION:
URL:https://arizonaartistsguild.net/events/open-studio-2/2026-08-28/
LOCATION:Arizona Artists Guild\, 18411 N. 7th Avenue\, Phoenix\, AZ\, 85023\, United States
CATEGORIES:Open Studio
END:VEVENT
BEGIN:VEVENT
DTSTART;TZID=America/Phoenix:20260904T080000
DTEND;TZID=America/Phoenix:20260904T120000
DTSTAMP:20260421T143812
CREATED:20260421T180802Z
LAST-MODIFIED:20260421T180802Z
UID:10018578-1788508800-1788523200@arizonaartistsguild.net
SUMMARY:Open Studio
DESCRIPTION:
URL:https://arizonaartistsguild.net/events/open-studio-2/2026-09-04/
LOCATION:Arizona Artists Guild\, 18411 N. 7th Avenue\, Phoenix\, AZ\, 85023\, United States
CATEGORIES:Open Studio
END:VEVENT
BEGIN:VEVENT
DTSTART;TZID=America/Phoenix:20260911T080000
DTEND;TZID=America/Phoenix:20260911T120000
DTSTAMP:20260421T143812
CREATED:20260421T180802Z
LAST-MODIFIED:20260421T180802Z
UID:10018579-1789113600-1789128000@arizonaartistsguild.net
SUMMARY:Open Studio
DESCRIPTION:
URL:https://arizonaartistsguild.net/events/open-studio-2/2026-09-11/
LOCATION:Arizona Artists Guild\, 18411 N. 7th Avenue\, Phoenix\, AZ\, 85023\, United States
CATEGORIES:Open Studio
END:VEVENT
BEGIN:VEVENT
DTSTART;TZID=America/Phoenix:20260918T080000
DTEND;TZID=America/Phoenix:20260918T120000
DTSTAMP:20260421T143812
CREATED:20260421T180802Z
LAST-MODIFIED:20260421T180802Z
UID:10018580-1789718400-1789732800@arizonaartistsguild.net
SUMMARY:Open Studio
DESCRIPTION:
URL:https://arizonaartistsguild.net/events/open-studio-2/2026-09-18/
LOCATION:Arizona Artists Guild\, 18411 N. 7th Avenue\, Phoenix\, AZ\, 85023\, United States
CATEGORIES:Open Studio
END:VEVENT
BEGIN:VEVENT
DTSTART;TZID=America/Phoenix:20260925T080000
DTEND;TZID=America/Phoenix:20260925T120000
DTSTAMP:20260421T143812
CREATED:20260421T180802Z
LAST-MODIFIED:20260421T180802Z
UID:10018581-1790323200-1790337600@arizonaartistsguild.net
SUMMARY:Open Studio
DESCRIPTION:
URL:https://arizonaartistsguild.net/events/open-studio-2/2026-09-25/
LOCATION:Arizona Artists Guild\, 18411 N. 7th Avenue\, Phoenix\, AZ\, 85023\, United States
CATEGORIES:Open Studio
END:VEVENT
BEGIN:VEVENT
DTSTART;TZID=America/Phoenix:20261002T080000
DTEND;TZID=America/Phoenix:20261002T120000
DTSTAMP:20260421T143812
CREATED:20260421T180802Z
LAST-MODIFIED:20260421T180802Z
UID:10018582-1790928000-1790942400@arizonaartistsguild.net
SUMMARY:Open Studio
DESCRIPTION:
URL:https://arizonaartistsguild.net/events/open-studio-2/2026-10-02/
LOCATION:Arizona Artists Guild\, 18411 N. 7th Avenue\, Phoenix\, AZ\, 85023\, United States
CATEGORIES:Open Studio
END:VEVENT
BEGIN:VEVENT
DTSTART;TZID=America/Phoenix:20261016T080000
DTEND;TZID=America/Phoenix:20261016T120000
DTSTAMP:20260421T143812
CREATED:20260421T180802Z
LAST-MODIFIED:20260421T180802Z
UID:10018584-1792137600-1792152000@arizonaartistsguild.net
SUMMARY:Open Studio
DESCRIPTION:
URL:https://arizonaartistsguild.net/events/open-studio-2/2026-10-16/
LOCATION:Arizona Artists Guild\, 18411 N. 7th Avenue\, Phoenix\, AZ\, 85023\, United States
CATEGORIES:Open Studio
END:VEVENT
BEGIN:VEVENT
DTSTART;TZID=America/Phoenix:20261023T080000
DTEND;TZID=America/Phoenix:20261023T120000
DTSTAMP:20260421T143812
CREATED:20260421T180802Z
LAST-MODIFIED:20260421T180802Z
UID:10018585-1792742400-1792756800@arizonaartistsguild.net
SUMMARY:Open Studio
DESCRIPTION:
URL:https://arizonaartistsguild.net/events/open-studio-2/2026-10-23/
LOCATION:Arizona Artists Guild\, 18411 N. 7th Avenue\, Phoenix\, AZ\, 85023\, United States
CATEGORIES:Open Studio
END:VEVENT
BEGIN:VEVENT
DTSTART;TZID=America/Phoenix:20261030T080000
DTEND;TZID=America/Phoenix:20261030T120000
DTSTAMP:20260421T143812
CREATED:20260421T180802Z
LAST-MODIFIED:20260421T180802Z
UID:10018586-1793347200-1793361600@arizonaartistsguild.net
SUMMARY:Open Studio
DESCRIPTION:
URL:https://arizonaartistsguild.net/events/open-studio-2/2026-10-30/
LOCATION:Arizona Artists Guild\, 18411 N. 7th Avenue\, Phoenix\, AZ\, 85023\, United States
CATEGORIES:Open Studio
END:VEVENT
BEGIN:VEVENT
DTSTART;TZID=America/Phoenix:20261106T080000
DTEND;TZID=America/Phoenix:20261106T120000
DTSTAMP:20260421T143812
CREATED:20260421T180802Z
LAST-MODIFIED:20260421T180802Z
UID:10018587-1793952000-1793966400@arizonaartistsguild.net
SUMMARY:Open Studio
DESCRIPTION:
URL:https://arizonaartistsguild.net/events/open-studio-2/2026-11-06/
LOCATION:Arizona Artists Guild\, 18411 N. 7th Avenue\, Phoenix\, AZ\, 85023\, United States
CATEGORIES:Open Studio
END:VEVENT
BEGIN:VEVENT
DTSTART;TZID=America/Phoenix:20261113T080000
DTEND;TZID=America/Phoenix:20261113T120000
DTSTAMP:20260421T143812
CREATED:20260421T180802Z
LAST-MODIFIED:20260421T180802Z
UID:10018588-1794556800-1794571200@arizonaartistsguild.net
SUMMARY:Open Studio
DESCRIPTION:
URL:https://arizonaartistsguild.net/events/open-studio-2/2026-11-13/
LOCATION:Arizona Artists Guild\, 18411 N. 7th Avenue\, Phoenix\, AZ\, 85023\, United States
CATEGORIES:Open Studio
END:VEVENT
BEGIN:VEVENT
DTSTART;TZID=America/Phoenix:20261120T080000
DTEND;TZID=America/Phoenix:20261120T120000
DTSTAMP:20260421T143812
CREATED:20260421T180802Z
LAST-MODIFIED:20260421T180802Z
UID:10018589-1795161600-1795176000@arizonaartistsguild.net
SUMMARY:Open Studio
DESCRIPTION:
URL:https://arizonaartistsguild.net/events/open-studio-2/2026-11-20/
LOCATION:Arizona Artists Guild\, 18411 N. 7th Avenue\, Phoenix\, AZ\, 85023\, United States
CATEGORIES:Open Studio
END:VEVENT
BEGIN:VEVENT
DTSTART;TZID=America/Phoenix:20261127T080000
DTEND;TZID=America/Phoenix:20261127T120000
DTSTAMP:20260421T143812
CREATED:20260421T180802Z
LAST-MODIFIED:20260421T180802Z
UID:10018590-1795766400-1795780800@arizonaartistsguild.net
SUMMARY:Open Studio
DESCRIPTION:
URL:https://arizonaartistsguild.net/events/open-studio-2/2026-11-27/
LOCATION:Arizona Artists Guild\, 18411 N. 7th Avenue\, Phoenix\, AZ\, 85023\, United States
CATEGORIES:Open Studio
END:VEVENT
BEGIN:VEVENT
DTSTART;TZID=America/Phoenix:20261204T080000
DTEND;TZID=America/Phoenix:20261204T120000
DTSTAMP:20260421T143812
CREATED:20260421T180802Z
LAST-MODIFIED:20260421T180802Z
UID:10018591-1796371200-1796385600@arizonaartistsguild.net
SUMMARY:Open Studio
DESCRIPTION:
URL:https://arizonaartistsguild.net/events/open-studio-2/2026-12-04/
LOCATION:Arizona Artists Guild\, 18411 N. 7th Avenue\, Phoenix\, AZ\, 85023\, United States
CATEGORIES:Open Studio
END:VEVENT
BEGIN:VEVENT
DTSTART;TZID=America/Phoenix:20261211T080000
DTEND;TZID=America/Phoenix:20261211T120000
DTSTAMP:20260421T143812
CREATED:20260421T180802Z
LAST-MODIFIED:20260421T180802Z
UID:10018592-1796976000-1796990400@arizonaartistsguild.net
SUMMARY:Open Studio
DESCRIPTION:
URL:https://arizonaartistsguild.net/events/open-studio-2/2026-12-11/
LOCATION:Arizona Artists Guild\, 18411 N. 7th Avenue\, Phoenix\, AZ\, 85023\, United States
CATEGORIES:Open Studio
END:VEVENT
BEGIN:VEVENT
DTSTART;TZID=America/Phoenix:20261218T080000
DTEND;TZID=America/Phoenix:20261218T120000
DTSTAMP:20260421T143812
CREATED:20260421T180802Z
LAST-MODIFIED:20260421T180802Z
UID:10018593-1797580800-1797595200@arizonaartistsguild.net
SUMMARY:Open Studio
DESCRIPTION:
URL:https://arizonaartistsguild.net/events/open-studio-2/2026-12-18/
LOCATION:Arizona Artists Guild\, 18411 N. 7th Avenue\, Phoenix\, AZ\, 85023\, United States
CATEGORIES:Open Studio
END:VEVENT
BEGIN:VEVENT
DTSTART;TZID=America/Phoenix:20261225T080000
DTEND;TZID=America/Phoenix:20261225T120000
DTSTAMP:20260421T143812
CREATED:20260421T180802Z
LAST-MODIFIED:20260421T180802Z
UID:10018594-1798185600-1798200000@arizonaartistsguild.net
SUMMARY:Open Studio
DESCRIPTION:
URL:https://arizonaartistsguild.net/events/open-studio-2/2026-12-25/
LOCATION:Arizona Artists Guild\, 18411 N. 7th Avenue\, Phoenix\, AZ\, 85023\, United States
CATEGORIES:Open Studio
END:VEVENT
BEGIN:VEVENT
DTSTART;TZID=America/Phoenix:20270101T080000
DTEND;TZID=America/Phoenix:20270101T120000
DTSTAMP:20260421T143812
CREATED:20260421T180802Z
LAST-MODIFIED:20260421T180802Z
UID:10018595-1798790400-1798804800@arizonaartistsguild.net
SUMMARY:Open Studio
DESCRIPTION:
URL:https://arizonaartistsguild.net/events/open-studio-2/2027-01-01/
LOCATION:Arizona Artists Guild\, 18411 N. 7th Avenue\, Phoenix\, AZ\, 85023\, United States
CATEGORIES:Open Studio
END:VEVENT
BEGIN:VEVENT
DTSTART;TZID=America/Phoenix:20270108T080000
DTEND;TZID=America/Phoenix:20270108T120000
DTSTAMP:20260421T143812
CREATED:20260421T180802Z
LAST-MODIFIED:20260421T180802Z
UID:10018596-1799395200-1799409600@arizonaartistsguild.net
SUMMARY:Open Studio
DESCRIPTION:
URL:https://arizonaartistsguild.net/events/open-studio-2/2027-01-08/
LOCATION:Arizona Artists Guild\, 18411 N. 7th Avenue\, Phoenix\, AZ\, 85023\, United States
CATEGORIES:Open Studio
END:VEVENT
END:VCALENDAR