BEGIN:VCALENDAR
VERSION:2.0
PRODID:-//Arizona Artists Guild - ECPv6.15.20//NONSGML v1.0//EN
CALSCALE:GREGORIAN
METHOD:PUBLISH
X-WR-CALNAME:Arizona Artists Guild
X-ORIGINAL-URL:https://arizonaartistsguild.net
X-WR-CALDESC:Events for Arizona Artists Guild
REFRESH-INTERVAL;VALUE=DURATION:PT1H
X-Robots-Tag:noindex
X-PUBLISHED-TTL:PT1H
BEGIN:VTIMEZONE
TZID:America/Phoenix
BEGIN:STANDARD
TZOFFSETFROM:-0700
TZOFFSETTO:-0700
TZNAME:MST
DTSTART:20270101T000000
END:STANDARD
END:VTIMEZONE
BEGIN:VEVENT
DTSTART;TZID=America/Phoenix:20280508T080000
DTEND;TZID=America/Phoenix:20280508T120000
DTSTAMP:20260420T205957
CREATED:20210818T231424Z
LAST-MODIFIED:20240315T145428Z
UID:10003891-1841385600-1841400000@arizonaartistsguild.net
SUMMARY:AAG OPEN STUDIO
DESCRIPTION:Morning session
URL:https://arizonaartistsguild.net/events/aag-open-studio/2028-05-08/
LOCATION:Arizona Artists Guild\, 18411 N. 7th Avenue\, Phoenix\, AZ\, 85023\, United States
CATEGORIES:AAG - event,Events and Building Schedule,Open Studio
END:VEVENT
BEGIN:VEVENT
DTSTART;TZID=America/Phoenix:20280510T130000
DTEND;TZID=America/Phoenix:20280510T160000
DTSTAMP:20260420T205957
CREATED:20210818T231424Z
LAST-MODIFIED:20250803T033308Z
UID:10003349-1841576400-1841587200@arizonaartistsguild.net
SUMMARY:AAG Open Studio
DESCRIPTION:Afternoon
URL:https://arizonaartistsguild.net/events/aag-open-studio-2022-01-12/2028-05-10/
LOCATION:Arizona Artists Guild\, 18411 N. 7th Avenue\, Phoenix\, AZ\, 85023\, United States
CATEGORIES:AAG - event,Events and Building Schedule,Open Studio
END:VEVENT
BEGIN:VEVENT
DTSTART;TZID=America/Phoenix:20280515T080000
DTEND;TZID=America/Phoenix:20280515T120000
DTSTAMP:20260420T205957
CREATED:20210818T231424Z
LAST-MODIFIED:20240315T145428Z
UID:10003892-1841990400-1842004800@arizonaartistsguild.net
SUMMARY:AAG OPEN STUDIO
DESCRIPTION:Morning session
URL:https://arizonaartistsguild.net/events/aag-open-studio/2028-05-15/
LOCATION:Arizona Artists Guild\, 18411 N. 7th Avenue\, Phoenix\, AZ\, 85023\, United States
CATEGORIES:AAG - event,Events and Building Schedule,Open Studio
END:VEVENT
BEGIN:VEVENT
DTSTART;TZID=America/Phoenix:20280516T153000
DTEND;TZID=America/Phoenix:20280516T163000
DTSTAMP:20260420T205957
CREATED:20240210T022854Z
LAST-MODIFIED:20250105T215952Z
UID:10005881-1842103800-1842107400@arizonaartistsguild.net
SUMMARY:New AAG Member Orientation
DESCRIPTION:
URL:https://arizonaartistsguild.net/events/new-aag-member-orientation-3/2028-05-16/
LOCATION:Arizona Artists Guild\, 18411 N. 7th Avenue\, Phoenix\, AZ\, 85023\, United States
CATEGORIES:AAG - event
END:VEVENT
BEGIN:VEVENT
DTSTART;TZID=America/Phoenix:20280517T130000
DTEND;TZID=America/Phoenix:20280517T160000
DTSTAMP:20260420T205957
CREATED:20210818T231424Z
LAST-MODIFIED:20250803T033308Z
UID:10003350-1842181200-1842192000@arizonaartistsguild.net
SUMMARY:AAG Open Studio
DESCRIPTION:Afternoon
URL:https://arizonaartistsguild.net/events/aag-open-studio-2022-01-12/2028-05-17/
LOCATION:Arizona Artists Guild\, 18411 N. 7th Avenue\, Phoenix\, AZ\, 85023\, United States
CATEGORIES:AAG - event,Events and Building Schedule,Open Studio
END:VEVENT
BEGIN:VEVENT
DTSTART;TZID=America/Phoenix:20280522T080000
DTEND;TZID=America/Phoenix:20280522T120000
DTSTAMP:20260420T205957
CREATED:20210818T231424Z
LAST-MODIFIED:20240315T145428Z
UID:10003893-1842595200-1842609600@arizonaartistsguild.net
SUMMARY:AAG OPEN STUDIO
DESCRIPTION:Morning session
URL:https://arizonaartistsguild.net/events/aag-open-studio/2028-05-22/
LOCATION:Arizona Artists Guild\, 18411 N. 7th Avenue\, Phoenix\, AZ\, 85023\, United States
CATEGORIES:AAG - event,Events and Building Schedule,Open Studio
END:VEVENT
BEGIN:VEVENT
DTSTART;TZID=America/Phoenix:20280524T130000
DTEND;TZID=America/Phoenix:20280524T160000
DTSTAMP:20260420T205957
CREATED:20210818T231424Z
LAST-MODIFIED:20250803T033308Z
UID:10003351-1842786000-1842796800@arizonaartistsguild.net
SUMMARY:AAG Open Studio
DESCRIPTION:Afternoon
URL:https://arizonaartistsguild.net/events/aag-open-studio-2022-01-12/2028-05-24/
LOCATION:Arizona Artists Guild\, 18411 N. 7th Avenue\, Phoenix\, AZ\, 85023\, United States
CATEGORIES:AAG - event,Events and Building Schedule,Open Studio
END:VEVENT
BEGIN:VEVENT
DTSTART;TZID=America/Phoenix:20280529T080000
DTEND;TZID=America/Phoenix:20280529T120000
DTSTAMP:20260420T205957
CREATED:20210818T231424Z
LAST-MODIFIED:20240315T145428Z
UID:10003894-1843200000-1843214400@arizonaartistsguild.net
SUMMARY:AAG OPEN STUDIO
DESCRIPTION:Morning session
URL:https://arizonaartistsguild.net/events/aag-open-studio/2028-05-29/
LOCATION:Arizona Artists Guild\, 18411 N. 7th Avenue\, Phoenix\, AZ\, 85023\, United States
CATEGORIES:AAG - event,Events and Building Schedule,Open Studio
END:VEVENT
BEGIN:VEVENT
DTSTART;TZID=America/Phoenix:20280531T130000
DTEND;TZID=America/Phoenix:20280531T160000
DTSTAMP:20260420T205957
CREATED:20210818T231424Z
LAST-MODIFIED:20250803T033308Z
UID:10003352-1843390800-1843401600@arizonaartistsguild.net
SUMMARY:AAG Open Studio
DESCRIPTION:Afternoon
URL:https://arizonaartistsguild.net/events/aag-open-studio-2022-01-12/2028-05-31/
LOCATION:Arizona Artists Guild\, 18411 N. 7th Avenue\, Phoenix\, AZ\, 85023\, United States
CATEGORIES:AAG - event,Events and Building Schedule,Open Studio
END:VEVENT
BEGIN:VEVENT
DTSTART;TZID=America/Phoenix:20280605T080000
DTEND;TZID=America/Phoenix:20280605T120000
DTSTAMP:20260420T205957
CREATED:20210818T231424Z
LAST-MODIFIED:20240315T145428Z
UID:10003895-1843804800-1843819200@arizonaartistsguild.net
SUMMARY:AAG OPEN STUDIO
DESCRIPTION:Morning session
URL:https://arizonaartistsguild.net/events/aag-open-studio/2028-06-05/
LOCATION:Arizona Artists Guild\, 18411 N. 7th Avenue\, Phoenix\, AZ\, 85023\, United States
CATEGORIES:AAG - event,Events and Building Schedule,Open Studio
END:VEVENT
BEGIN:VEVENT
DTSTART;TZID=America/Phoenix:20280605T140000
DTEND;TZID=America/Phoenix:20280605T160000
DTSTAMP:20260420T205957
CREATED:20260216T000542Z
LAST-MODIFIED:20260216T001107Z
UID:10004190-1843826400-1843833600@arizonaartistsguild.net
SUMMARY:Critique Group #1 - 1st Monday
DESCRIPTION:
URL:https://arizonaartistsguild.net/events/monday-critique-group-3/2028-06-05/
LOCATION:Arizona Artists Guild\, 18411 N. 7th Avenue\, Phoenix\, AZ\, 85023\, United States
CATEGORIES:AAG - event
END:VEVENT
BEGIN:VEVENT
DTSTART;TZID=America/Phoenix:20280607T130000
DTEND;TZID=America/Phoenix:20280607T160000
DTSTAMP:20260420T205957
CREATED:20210818T231424Z
LAST-MODIFIED:20250803T033308Z
UID:10003353-1843995600-1844006400@arizonaartistsguild.net
SUMMARY:AAG Open Studio
DESCRIPTION:Afternoon
URL:https://arizonaartistsguild.net/events/aag-open-studio-2022-01-12/2028-06-07/
LOCATION:Arizona Artists Guild\, 18411 N. 7th Avenue\, Phoenix\, AZ\, 85023\, United States
CATEGORIES:AAG - event,Events and Building Schedule,Open Studio
END:VEVENT
BEGIN:VEVENT
DTSTART;TZID=America/Phoenix:20280612T080000
DTEND;TZID=America/Phoenix:20280612T120000
DTSTAMP:20260420T205957
CREATED:20210818T231424Z
LAST-MODIFIED:20240315T145428Z
UID:10003896-1844409600-1844424000@arizonaartistsguild.net
SUMMARY:AAG OPEN STUDIO
DESCRIPTION:Morning session
URL:https://arizonaartistsguild.net/events/aag-open-studio/2028-06-12/
LOCATION:Arizona Artists Guild\, 18411 N. 7th Avenue\, Phoenix\, AZ\, 85023\, United States
CATEGORIES:AAG - event,Events and Building Schedule,Open Studio
END:VEVENT
BEGIN:VEVENT
DTSTART;TZID=America/Phoenix:20280614T130000
DTEND;TZID=America/Phoenix:20280614T160000
DTSTAMP:20260420T205957
CREATED:20210818T231424Z
LAST-MODIFIED:20250803T033308Z
UID:10003947-1844600400-1844611200@arizonaartistsguild.net
SUMMARY:AAG Open Studio
DESCRIPTION:Afternoon
URL:https://arizonaartistsguild.net/events/aag-open-studio-2022-01-12/2028-06-14/
LOCATION:Arizona Artists Guild\, 18411 N. 7th Avenue\, Phoenix\, AZ\, 85023\, United States
CATEGORIES:AAG - event,Events and Building Schedule,Open Studio
END:VEVENT
BEGIN:VEVENT
DTSTART;TZID=America/Phoenix:20280619T080000
DTEND;TZID=America/Phoenix:20280619T120000
DTSTAMP:20260420T205957
CREATED:20210818T231424Z
LAST-MODIFIED:20240315T145428Z
UID:10003897-1845014400-1845028800@arizonaartistsguild.net
SUMMARY:AAG OPEN STUDIO
DESCRIPTION:Morning session
URL:https://arizonaartistsguild.net/events/aag-open-studio/2028-06-19/
LOCATION:Arizona Artists Guild\, 18411 N. 7th Avenue\, Phoenix\, AZ\, 85023\, United States
CATEGORIES:AAG - event,Events and Building Schedule,Open Studio
END:VEVENT
BEGIN:VEVENT
DTSTART;TZID=America/Phoenix:20280620T153000
DTEND;TZID=America/Phoenix:20280620T163000
DTSTAMP:20260420T205957
CREATED:20240210T022854Z
LAST-MODIFIED:20250105T215952Z
UID:10005882-1845127800-1845131400@arizonaartistsguild.net
SUMMARY:New AAG Member Orientation
DESCRIPTION:
URL:https://arizonaartistsguild.net/events/new-aag-member-orientation-3/2028-06-20/
LOCATION:Arizona Artists Guild\, 18411 N. 7th Avenue\, Phoenix\, AZ\, 85023\, United States
CATEGORIES:AAG - event
END:VEVENT
BEGIN:VEVENT
DTSTART;TZID=America/Phoenix:20280621T130000
DTEND;TZID=America/Phoenix:20280621T160000
DTSTAMP:20260420T205957
CREATED:20210818T231424Z
LAST-MODIFIED:20250803T033308Z
UID:10003948-1845205200-1845216000@arizonaartistsguild.net
SUMMARY:AAG Open Studio
DESCRIPTION:Afternoon
URL:https://arizonaartistsguild.net/events/aag-open-studio-2022-01-12/2028-06-21/
LOCATION:Arizona Artists Guild\, 18411 N. 7th Avenue\, Phoenix\, AZ\, 85023\, United States
CATEGORIES:AAG - event,Events and Building Schedule,Open Studio
END:VEVENT
BEGIN:VEVENT
DTSTART;TZID=America/Phoenix:20280626T080000
DTEND;TZID=America/Phoenix:20280626T120000
DTSTAMP:20260420T205957
CREATED:20210818T231424Z
LAST-MODIFIED:20240315T145428Z
UID:10003898-1845619200-1845633600@arizonaartistsguild.net
SUMMARY:AAG OPEN STUDIO
DESCRIPTION:Morning session
URL:https://arizonaartistsguild.net/events/aag-open-studio/2028-06-26/
LOCATION:Arizona Artists Guild\, 18411 N. 7th Avenue\, Phoenix\, AZ\, 85023\, United States
CATEGORIES:AAG - event,Events and Building Schedule,Open Studio
END:VEVENT
BEGIN:VEVENT
DTSTART;TZID=America/Phoenix:20280628T130000
DTEND;TZID=America/Phoenix:20280628T160000
DTSTAMP:20260420T205957
CREATED:20210818T231424Z
LAST-MODIFIED:20250803T033308Z
UID:10003949-1845810000-1845820800@arizonaartistsguild.net
SUMMARY:AAG Open Studio
DESCRIPTION:Afternoon
URL:https://arizonaartistsguild.net/events/aag-open-studio-2022-01-12/2028-06-28/
LOCATION:Arizona Artists Guild\, 18411 N. 7th Avenue\, Phoenix\, AZ\, 85023\, United States
CATEGORIES:AAG - event,Events and Building Schedule,Open Studio
END:VEVENT
BEGIN:VEVENT
DTSTART;TZID=America/Phoenix:20280703T080000
DTEND;TZID=America/Phoenix:20280703T120000
DTSTAMP:20260420T205957
CREATED:20210818T231424Z
LAST-MODIFIED:20240315T145428Z
UID:10003899-1846224000-1846238400@arizonaartistsguild.net
SUMMARY:AAG OPEN STUDIO
DESCRIPTION:Morning session
URL:https://arizonaartistsguild.net/events/aag-open-studio/2028-07-03/
LOCATION:Arizona Artists Guild\, 18411 N. 7th Avenue\, Phoenix\, AZ\, 85023\, United States
CATEGORIES:AAG - event,Events and Building Schedule,Open Studio
END:VEVENT
BEGIN:VEVENT
DTSTART;TZID=America/Phoenix:20280703T140000
DTEND;TZID=America/Phoenix:20280703T160000
DTSTAMP:20260420T205957
CREATED:20260216T000542Z
LAST-MODIFIED:20260216T001107Z
UID:10004191-1846245600-1846252800@arizonaartistsguild.net
SUMMARY:Critique Group #1 - 1st Monday
DESCRIPTION:
URL:https://arizonaartistsguild.net/events/monday-critique-group-3/2028-07-03/
LOCATION:Arizona Artists Guild\, 18411 N. 7th Avenue\, Phoenix\, AZ\, 85023\, United States
CATEGORIES:AAG - event
END:VEVENT
BEGIN:VEVENT
DTSTART;TZID=America/Phoenix:20280705T130000
DTEND;TZID=America/Phoenix:20280705T160000
DTSTAMP:20260420T205957
CREATED:20210818T231424Z
LAST-MODIFIED:20250803T033308Z
UID:10003950-1846414800-1846425600@arizonaartistsguild.net
SUMMARY:AAG Open Studio
DESCRIPTION:Afternoon
URL:https://arizonaartistsguild.net/events/aag-open-studio-2022-01-12/2028-07-05/
LOCATION:Arizona Artists Guild\, 18411 N. 7th Avenue\, Phoenix\, AZ\, 85023\, United States
CATEGORIES:AAG - event,Events and Building Schedule,Open Studio
END:VEVENT
BEGIN:VEVENT
DTSTART;TZID=America/Phoenix:20280710T080000
DTEND;TZID=America/Phoenix:20280710T120000
DTSTAMP:20260420T205957
CREATED:20210818T231424Z
LAST-MODIFIED:20240315T145428Z
UID:10003900-1846828800-1846843200@arizonaartistsguild.net
SUMMARY:AAG OPEN STUDIO
DESCRIPTION:Morning session
URL:https://arizonaartistsguild.net/events/aag-open-studio/2028-07-10/
LOCATION:Arizona Artists Guild\, 18411 N. 7th Avenue\, Phoenix\, AZ\, 85023\, United States
CATEGORIES:AAG - event,Events and Building Schedule,Open Studio
END:VEVENT
BEGIN:VEVENT
DTSTART;TZID=America/Phoenix:20280712T130000
DTEND;TZID=America/Phoenix:20280712T160000
DTSTAMP:20260420T205957
CREATED:20210818T231424Z
LAST-MODIFIED:20250803T033308Z
UID:10003951-1847019600-1847030400@arizonaartistsguild.net
SUMMARY:AAG Open Studio
DESCRIPTION:Afternoon
URL:https://arizonaartistsguild.net/events/aag-open-studio-2022-01-12/2028-07-12/
LOCATION:Arizona Artists Guild\, 18411 N. 7th Avenue\, Phoenix\, AZ\, 85023\, United States
CATEGORIES:AAG - event,Events and Building Schedule,Open Studio
END:VEVENT
BEGIN:VEVENT
DTSTART;TZID=America/Phoenix:20280717T080000
DTEND;TZID=America/Phoenix:20280717T120000
DTSTAMP:20260420T205957
CREATED:20210818T231424Z
LAST-MODIFIED:20240315T145428Z
UID:10003901-1847433600-1847448000@arizonaartistsguild.net
SUMMARY:AAG OPEN STUDIO
DESCRIPTION:Morning session
URL:https://arizonaartistsguild.net/events/aag-open-studio/2028-07-17/
LOCATION:Arizona Artists Guild\, 18411 N. 7th Avenue\, Phoenix\, AZ\, 85023\, United States
CATEGORIES:AAG - event,Events and Building Schedule,Open Studio
END:VEVENT
BEGIN:VEVENT
DTSTART;TZID=America/Phoenix:20280718T153000
DTEND;TZID=America/Phoenix:20280718T163000
DTSTAMP:20260420T205957
CREATED:20240210T022854Z
LAST-MODIFIED:20250105T215952Z
UID:10005883-1847547000-1847550600@arizonaartistsguild.net
SUMMARY:New AAG Member Orientation
DESCRIPTION:
URL:https://arizonaartistsguild.net/events/new-aag-member-orientation-3/2028-07-18/
LOCATION:Arizona Artists Guild\, 18411 N. 7th Avenue\, Phoenix\, AZ\, 85023\, United States
CATEGORIES:AAG - event
END:VEVENT
BEGIN:VEVENT
DTSTART;TZID=America/Phoenix:20280719T130000
DTEND;TZID=America/Phoenix:20280719T160000
DTSTAMP:20260420T205957
CREATED:20210818T231424Z
LAST-MODIFIED:20250803T033308Z
UID:10003952-1847624400-1847635200@arizonaartistsguild.net
SUMMARY:AAG Open Studio
DESCRIPTION:Afternoon
URL:https://arizonaartistsguild.net/events/aag-open-studio-2022-01-12/2028-07-19/
LOCATION:Arizona Artists Guild\, 18411 N. 7th Avenue\, Phoenix\, AZ\, 85023\, United States
CATEGORIES:AAG - event,Events and Building Schedule,Open Studio
END:VEVENT
BEGIN:VEVENT
DTSTART;TZID=America/Phoenix:20280724T080000
DTEND;TZID=America/Phoenix:20280724T120000
DTSTAMP:20260420T205957
CREATED:20210818T231424Z
LAST-MODIFIED:20240315T145428Z
UID:10003902-1848038400-1848052800@arizonaartistsguild.net
SUMMARY:AAG OPEN STUDIO
DESCRIPTION:Morning session
URL:https://arizonaartistsguild.net/events/aag-open-studio/2028-07-24/
LOCATION:Arizona Artists Guild\, 18411 N. 7th Avenue\, Phoenix\, AZ\, 85023\, United States
CATEGORIES:AAG - event,Events and Building Schedule,Open Studio
END:VEVENT
BEGIN:VEVENT
DTSTART;TZID=America/Phoenix:20280726T130000
DTEND;TZID=America/Phoenix:20280726T160000
DTSTAMP:20260420T205957
CREATED:20210818T231424Z
LAST-MODIFIED:20250803T033308Z
UID:10003953-1848229200-1848240000@arizonaartistsguild.net
SUMMARY:AAG Open Studio
DESCRIPTION:Afternoon
URL:https://arizonaartistsguild.net/events/aag-open-studio-2022-01-12/2028-07-26/
LOCATION:Arizona Artists Guild\, 18411 N. 7th Avenue\, Phoenix\, AZ\, 85023\, United States
CATEGORIES:AAG - event,Events and Building Schedule,Open Studio
END:VEVENT
BEGIN:VEVENT
DTSTART;TZID=America/Phoenix:20280731T080000
DTEND;TZID=America/Phoenix:20280731T120000
DTSTAMP:20260420T205957
CREATED:20210818T231424Z
LAST-MODIFIED:20240315T145428Z
UID:10003903-1848643200-1848657600@arizonaartistsguild.net
SUMMARY:AAG OPEN STUDIO
DESCRIPTION:Morning session
URL:https://arizonaartistsguild.net/events/aag-open-studio/2028-07-31/
LOCATION:Arizona Artists Guild\, 18411 N. 7th Avenue\, Phoenix\, AZ\, 85023\, United States
CATEGORIES:AAG - event,Events and Building Schedule,Open Studio
END:VEVENT
END:VCALENDAR