BEGIN:VCALENDAR
VERSION:2.0
PRODID:-//Arizona Artists Guild - ECPv6.15.20//NONSGML v1.0//EN
CALSCALE:GREGORIAN
METHOD:PUBLISH
X-ORIGINAL-URL:https://arizonaartistsguild.net
X-WR-CALDESC:Events for Arizona Artists Guild
REFRESH-INTERVAL;VALUE=DURATION:PT1H
X-Robots-Tag:noindex
X-PUBLISHED-TTL:PT1H
BEGIN:VTIMEZONE
TZID:America/Phoenix
BEGIN:STANDARD
TZOFFSETFROM:-0700
TZOFFSETTO:-0700
TZNAME:MST
DTSTART:20260101T000000
END:STANDARD
END:VTIMEZONE
BEGIN:VEVENT
DTSTART;TZID=America/Phoenix:20271222T130000
DTEND;TZID=America/Phoenix:20271222T160000
DTSTAMP:20260420T111632
CREATED:20210818T231424Z
LAST-MODIFIED:20250803T033308Z
UID:10003329-1829480400-1829491200@arizonaartistsguild.net
SUMMARY:AAG Open Studio
DESCRIPTION:Afternoon
URL:https://arizonaartistsguild.net/events/aag-open-studio-2022-01-12/2027-12-22/
LOCATION:Arizona Artists Guild\, 18411 N. 7th Avenue\, Phoenix\, AZ\, 85023\, United States
CATEGORIES:AAG - event,Events and Building Schedule,Open Studio
END:VEVENT
BEGIN:VEVENT
DTSTART;TZID=America/Phoenix:20271227T080000
DTEND;TZID=America/Phoenix:20271227T120000
DTSTAMP:20260420T111632
CREATED:20210818T231424Z
LAST-MODIFIED:20240315T145428Z
UID:10003872-1829894400-1829908800@arizonaartistsguild.net
SUMMARY:AAG OPEN STUDIO
DESCRIPTION:Morning session
URL:https://arizonaartistsguild.net/events/aag-open-studio/2027-12-27/
LOCATION:Arizona Artists Guild\, 18411 N. 7th Avenue\, Phoenix\, AZ\, 85023\, United States
CATEGORIES:AAG - event,Events and Building Schedule,Open Studio
END:VEVENT
BEGIN:VEVENT
DTSTART;TZID=America/Phoenix:20271229T130000
DTEND;TZID=America/Phoenix:20271229T160000
DTSTAMP:20260420T111632
CREATED:20210818T231424Z
LAST-MODIFIED:20250803T033308Z
UID:10003330-1830085200-1830096000@arizonaartistsguild.net
SUMMARY:AAG Open Studio
DESCRIPTION:Afternoon
URL:https://arizonaartistsguild.net/events/aag-open-studio-2022-01-12/2027-12-29/
LOCATION:Arizona Artists Guild\, 18411 N. 7th Avenue\, Phoenix\, AZ\, 85023\, United States
CATEGORIES:AAG - event,Events and Building Schedule,Open Studio
END:VEVENT
BEGIN:VEVENT
DTSTART;TZID=America/Phoenix:20280103T080000
DTEND;TZID=America/Phoenix:20280103T120000
DTSTAMP:20260420T111632
CREATED:20210818T231424Z
LAST-MODIFIED:20240315T145428Z
UID:10003873-1830499200-1830513600@arizonaartistsguild.net
SUMMARY:AAG OPEN STUDIO
DESCRIPTION:Morning session
URL:https://arizonaartistsguild.net/events/aag-open-studio/2028-01-03/
LOCATION:Arizona Artists Guild\, 18411 N. 7th Avenue\, Phoenix\, AZ\, 85023\, United States
CATEGORIES:AAG - event,Events and Building Schedule,Open Studio
END:VEVENT
BEGIN:VEVENT
DTSTART;TZID=America/Phoenix:20280103T140000
DTEND;TZID=America/Phoenix:20280103T160000
DTSTAMP:20260420T111632
CREATED:20260216T000542Z
LAST-MODIFIED:20260216T001107Z
UID:10004185-1830520800-1830528000@arizonaartistsguild.net
SUMMARY:Critique Group #1 - 1st Monday
DESCRIPTION:
URL:https://arizonaartistsguild.net/events/monday-critique-group-3/2028-01-03/
LOCATION:Arizona Artists Guild\, 18411 N. 7th Avenue\, Phoenix\, AZ\, 85023\, United States
CATEGORIES:AAG - event
END:VEVENT
BEGIN:VEVENT
DTSTART;TZID=America/Phoenix:20280105T130000
DTEND;TZID=America/Phoenix:20280105T160000
DTSTAMP:20260420T111632
CREATED:20210818T231424Z
LAST-MODIFIED:20250803T033308Z
UID:10003331-1830690000-1830700800@arizonaartistsguild.net
SUMMARY:AAG Open Studio
DESCRIPTION:Afternoon
URL:https://arizonaartistsguild.net/events/aag-open-studio-2022-01-12/2028-01-05/
LOCATION:Arizona Artists Guild\, 18411 N. 7th Avenue\, Phoenix\, AZ\, 85023\, United States
CATEGORIES:AAG - event,Events and Building Schedule,Open Studio
END:VEVENT
BEGIN:VEVENT
DTSTART;TZID=America/Phoenix:20280110T080000
DTEND;TZID=America/Phoenix:20280110T120000
DTSTAMP:20260420T111632
CREATED:20210818T231424Z
LAST-MODIFIED:20240315T145428Z
UID:10003874-1831104000-1831118400@arizonaartistsguild.net
SUMMARY:AAG OPEN STUDIO
DESCRIPTION:Morning session
URL:https://arizonaartistsguild.net/events/aag-open-studio/2028-01-10/
LOCATION:Arizona Artists Guild\, 18411 N. 7th Avenue\, Phoenix\, AZ\, 85023\, United States
CATEGORIES:AAG - event,Events and Building Schedule,Open Studio
END:VEVENT
BEGIN:VEVENT
DTSTART;TZID=America/Phoenix:20280112T130000
DTEND;TZID=America/Phoenix:20280112T160000
DTSTAMP:20260420T111632
CREATED:20210818T231424Z
LAST-MODIFIED:20250803T033308Z
UID:10003332-1831294800-1831305600@arizonaartistsguild.net
SUMMARY:AAG Open Studio
DESCRIPTION:Afternoon
URL:https://arizonaartistsguild.net/events/aag-open-studio-2022-01-12/2028-01-12/
LOCATION:Arizona Artists Guild\, 18411 N. 7th Avenue\, Phoenix\, AZ\, 85023\, United States
CATEGORIES:AAG - event,Events and Building Schedule,Open Studio
END:VEVENT
BEGIN:VEVENT
DTSTART;TZID=America/Phoenix:20280117T080000
DTEND;TZID=America/Phoenix:20280117T120000
DTSTAMP:20260420T111632
CREATED:20210818T231424Z
LAST-MODIFIED:20240315T145428Z
UID:10003875-1831708800-1831723200@arizonaartistsguild.net
SUMMARY:AAG OPEN STUDIO
DESCRIPTION:Morning session
URL:https://arizonaartistsguild.net/events/aag-open-studio/2028-01-17/
LOCATION:Arizona Artists Guild\, 18411 N. 7th Avenue\, Phoenix\, AZ\, 85023\, United States
CATEGORIES:AAG - event,Events and Building Schedule,Open Studio
END:VEVENT
BEGIN:VEVENT
DTSTART;TZID=America/Phoenix:20280118T153000
DTEND;TZID=America/Phoenix:20280118T163000
DTSTAMP:20260420T111632
CREATED:20240210T022854Z
LAST-MODIFIED:20250105T215952Z
UID:10005877-1831822200-1831825800@arizonaartistsguild.net
SUMMARY:New AAG Member Orientation
DESCRIPTION:
URL:https://arizonaartistsguild.net/events/new-aag-member-orientation-3/2028-01-18/
LOCATION:Arizona Artists Guild\, 18411 N. 7th Avenue\, Phoenix\, AZ\, 85023\, United States
CATEGORIES:AAG - event
END:VEVENT
BEGIN:VEVENT
DTSTART;TZID=America/Phoenix:20280119T130000
DTEND;TZID=America/Phoenix:20280119T160000
DTSTAMP:20260420T111632
CREATED:20210818T231424Z
LAST-MODIFIED:20250803T033308Z
UID:10003333-1831899600-1831910400@arizonaartistsguild.net
SUMMARY:AAG Open Studio
DESCRIPTION:Afternoon
URL:https://arizonaartistsguild.net/events/aag-open-studio-2022-01-12/2028-01-19/
LOCATION:Arizona Artists Guild\, 18411 N. 7th Avenue\, Phoenix\, AZ\, 85023\, United States
CATEGORIES:AAG - event,Events and Building Schedule,Open Studio
END:VEVENT
BEGIN:VEVENT
DTSTART;TZID=America/Phoenix:20280124T080000
DTEND;TZID=America/Phoenix:20280124T120000
DTSTAMP:20260420T111632
CREATED:20210818T231424Z
LAST-MODIFIED:20240315T145428Z
UID:10003876-1832313600-1832328000@arizonaartistsguild.net
SUMMARY:AAG OPEN STUDIO
DESCRIPTION:Morning session
URL:https://arizonaartistsguild.net/events/aag-open-studio/2028-01-24/
LOCATION:Arizona Artists Guild\, 18411 N. 7th Avenue\, Phoenix\, AZ\, 85023\, United States
CATEGORIES:AAG - event,Events and Building Schedule,Open Studio
END:VEVENT
BEGIN:VEVENT
DTSTART;TZID=America/Phoenix:20280126T130000
DTEND;TZID=America/Phoenix:20280126T160000
DTSTAMP:20260420T111632
CREATED:20210818T231424Z
LAST-MODIFIED:20250803T033308Z
UID:10003334-1832504400-1832515200@arizonaartistsguild.net
SUMMARY:AAG Open Studio
DESCRIPTION:Afternoon
URL:https://arizonaartistsguild.net/events/aag-open-studio-2022-01-12/2028-01-26/
LOCATION:Arizona Artists Guild\, 18411 N. 7th Avenue\, Phoenix\, AZ\, 85023\, United States
CATEGORIES:AAG - event,Events and Building Schedule,Open Studio
END:VEVENT
BEGIN:VEVENT
DTSTART;TZID=America/Phoenix:20280131T080000
DTEND;TZID=America/Phoenix:20280131T120000
DTSTAMP:20260420T111632
CREATED:20210818T231424Z
LAST-MODIFIED:20240315T145428Z
UID:10003877-1832918400-1832932800@arizonaartistsguild.net
SUMMARY:AAG OPEN STUDIO
DESCRIPTION:Morning session
URL:https://arizonaartistsguild.net/events/aag-open-studio/2028-01-31/
LOCATION:Arizona Artists Guild\, 18411 N. 7th Avenue\, Phoenix\, AZ\, 85023\, United States
CATEGORIES:AAG - event,Events and Building Schedule,Open Studio
END:VEVENT
BEGIN:VEVENT
DTSTART;TZID=America/Phoenix:20280202T130000
DTEND;TZID=America/Phoenix:20280202T160000
DTSTAMP:20260420T111632
CREATED:20210818T231424Z
LAST-MODIFIED:20250803T033308Z
UID:10003335-1833109200-1833120000@arizonaartistsguild.net
SUMMARY:AAG Open Studio
DESCRIPTION:Afternoon
URL:https://arizonaartistsguild.net/events/aag-open-studio-2022-01-12/2028-02-02/
LOCATION:Arizona Artists Guild\, 18411 N. 7th Avenue\, Phoenix\, AZ\, 85023\, United States
CATEGORIES:AAG - event,Events and Building Schedule,Open Studio
END:VEVENT
BEGIN:VEVENT
DTSTART;TZID=America/Phoenix:20280207T080000
DTEND;TZID=America/Phoenix:20280207T120000
DTSTAMP:20260420T111632
CREATED:20210818T231424Z
LAST-MODIFIED:20240315T145428Z
UID:10003878-1833523200-1833537600@arizonaartistsguild.net
SUMMARY:AAG OPEN STUDIO
DESCRIPTION:Morning session
URL:https://arizonaartistsguild.net/events/aag-open-studio/2028-02-07/
LOCATION:Arizona Artists Guild\, 18411 N. 7th Avenue\, Phoenix\, AZ\, 85023\, United States
CATEGORIES:AAG - event,Events and Building Schedule,Open Studio
END:VEVENT
BEGIN:VEVENT
DTSTART;TZID=America/Phoenix:20280207T140000
DTEND;TZID=America/Phoenix:20280207T160000
DTSTAMP:20260420T111632
CREATED:20260216T000542Z
LAST-MODIFIED:20260216T001107Z
UID:10004186-1833544800-1833552000@arizonaartistsguild.net
SUMMARY:Critique Group #1 - 1st Monday
DESCRIPTION:
URL:https://arizonaartistsguild.net/events/monday-critique-group-3/2028-02-07/
LOCATION:Arizona Artists Guild\, 18411 N. 7th Avenue\, Phoenix\, AZ\, 85023\, United States
CATEGORIES:AAG - event
END:VEVENT
BEGIN:VEVENT
DTSTART;TZID=America/Phoenix:20280209T130000
DTEND;TZID=America/Phoenix:20280209T160000
DTSTAMP:20260420T111632
CREATED:20210818T231424Z
LAST-MODIFIED:20250803T033308Z
UID:10003336-1833714000-1833724800@arizonaartistsguild.net
SUMMARY:AAG Open Studio
DESCRIPTION:Afternoon
URL:https://arizonaartistsguild.net/events/aag-open-studio-2022-01-12/2028-02-09/
LOCATION:Arizona Artists Guild\, 18411 N. 7th Avenue\, Phoenix\, AZ\, 85023\, United States
CATEGORIES:AAG - event,Events and Building Schedule,Open Studio
END:VEVENT
BEGIN:VEVENT
DTSTART;TZID=America/Phoenix:20280214T080000
DTEND;TZID=America/Phoenix:20280214T120000
DTSTAMP:20260420T111632
CREATED:20210818T231424Z
LAST-MODIFIED:20240315T145428Z
UID:10003879-1834128000-1834142400@arizonaartistsguild.net
SUMMARY:AAG OPEN STUDIO
DESCRIPTION:Morning session
URL:https://arizonaartistsguild.net/events/aag-open-studio/2028-02-14/
LOCATION:Arizona Artists Guild\, 18411 N. 7th Avenue\, Phoenix\, AZ\, 85023\, United States
CATEGORIES:AAG - event,Events and Building Schedule,Open Studio
END:VEVENT
BEGIN:VEVENT
DTSTART;TZID=America/Phoenix:20280215T153000
DTEND;TZID=America/Phoenix:20280215T163000
DTSTAMP:20260420T111632
CREATED:20240210T022854Z
LAST-MODIFIED:20250105T215952Z
UID:10005878-1834241400-1834245000@arizonaartistsguild.net
SUMMARY:New AAG Member Orientation
DESCRIPTION:
URL:https://arizonaartistsguild.net/events/new-aag-member-orientation-3/2028-02-15/
LOCATION:Arizona Artists Guild\, 18411 N. 7th Avenue\, Phoenix\, AZ\, 85023\, United States
CATEGORIES:AAG - event
END:VEVENT
BEGIN:VEVENT
DTSTART;TZID=America/Phoenix:20280216T130000
DTEND;TZID=America/Phoenix:20280216T160000
DTSTAMP:20260420T111632
CREATED:20210818T231424Z
LAST-MODIFIED:20250803T033308Z
UID:10003337-1834318800-1834329600@arizonaartistsguild.net
SUMMARY:AAG Open Studio
DESCRIPTION:Afternoon
URL:https://arizonaartistsguild.net/events/aag-open-studio-2022-01-12/2028-02-16/
LOCATION:Arizona Artists Guild\, 18411 N. 7th Avenue\, Phoenix\, AZ\, 85023\, United States
CATEGORIES:AAG - event,Events and Building Schedule,Open Studio
END:VEVENT
BEGIN:VEVENT
DTSTART;TZID=America/Phoenix:20280221T080000
DTEND;TZID=America/Phoenix:20280221T120000
DTSTAMP:20260420T111632
CREATED:20210818T231424Z
LAST-MODIFIED:20240315T145428Z
UID:10003880-1834732800-1834747200@arizonaartistsguild.net
SUMMARY:AAG OPEN STUDIO
DESCRIPTION:Morning session
URL:https://arizonaartistsguild.net/events/aag-open-studio/2028-02-21/
LOCATION:Arizona Artists Guild\, 18411 N. 7th Avenue\, Phoenix\, AZ\, 85023\, United States
CATEGORIES:AAG - event,Events and Building Schedule,Open Studio
END:VEVENT
BEGIN:VEVENT
DTSTART;TZID=America/Phoenix:20280223T130000
DTEND;TZID=America/Phoenix:20280223T160000
DTSTAMP:20260420T111632
CREATED:20210818T231424Z
LAST-MODIFIED:20250803T033308Z
UID:10003338-1834923600-1834934400@arizonaartistsguild.net
SUMMARY:AAG Open Studio
DESCRIPTION:Afternoon
URL:https://arizonaartistsguild.net/events/aag-open-studio-2022-01-12/2028-02-23/
LOCATION:Arizona Artists Guild\, 18411 N. 7th Avenue\, Phoenix\, AZ\, 85023\, United States
CATEGORIES:AAG - event,Events and Building Schedule,Open Studio
END:VEVENT
BEGIN:VEVENT
DTSTART;TZID=America/Phoenix:20280228T080000
DTEND;TZID=America/Phoenix:20280228T120000
DTSTAMP:20260420T111632
CREATED:20210818T231424Z
LAST-MODIFIED:20240315T145428Z
UID:10003881-1835337600-1835352000@arizonaartistsguild.net
SUMMARY:AAG OPEN STUDIO
DESCRIPTION:Morning session
URL:https://arizonaartistsguild.net/events/aag-open-studio/2028-02-28/
LOCATION:Arizona Artists Guild\, 18411 N. 7th Avenue\, Phoenix\, AZ\, 85023\, United States
CATEGORIES:AAG - event,Events and Building Schedule,Open Studio
END:VEVENT
BEGIN:VEVENT
DTSTART;TZID=America/Phoenix:20280301T130000
DTEND;TZID=America/Phoenix:20280301T160000
DTSTAMP:20260420T111632
CREATED:20210818T231424Z
LAST-MODIFIED:20250803T033308Z
UID:10003339-1835528400-1835539200@arizonaartistsguild.net
SUMMARY:AAG Open Studio
DESCRIPTION:Afternoon
URL:https://arizonaartistsguild.net/events/aag-open-studio-2022-01-12/2028-03-01/
LOCATION:Arizona Artists Guild\, 18411 N. 7th Avenue\, Phoenix\, AZ\, 85023\, United States
CATEGORIES:AAG - event,Events and Building Schedule,Open Studio
END:VEVENT
BEGIN:VEVENT
DTSTART;TZID=America/Phoenix:20280306T080000
DTEND;TZID=America/Phoenix:20280306T120000
DTSTAMP:20260420T111632
CREATED:20210818T231424Z
LAST-MODIFIED:20240315T145428Z
UID:10003882-1835942400-1835956800@arizonaartistsguild.net
SUMMARY:AAG OPEN STUDIO
DESCRIPTION:Morning session
URL:https://arizonaartistsguild.net/events/aag-open-studio/2028-03-06/
LOCATION:Arizona Artists Guild\, 18411 N. 7th Avenue\, Phoenix\, AZ\, 85023\, United States
CATEGORIES:AAG - event,Events and Building Schedule,Open Studio
END:VEVENT
BEGIN:VEVENT
DTSTART;TZID=America/Phoenix:20280306T140000
DTEND;TZID=America/Phoenix:20280306T160000
DTSTAMP:20260420T111632
CREATED:20260216T000542Z
LAST-MODIFIED:20260216T001107Z
UID:10004187-1835964000-1835971200@arizonaartistsguild.net
SUMMARY:Critique Group #1 - 1st Monday
DESCRIPTION:
URL:https://arizonaartistsguild.net/events/monday-critique-group-3/2028-03-06/
LOCATION:Arizona Artists Guild\, 18411 N. 7th Avenue\, Phoenix\, AZ\, 85023\, United States
CATEGORIES:AAG - event
END:VEVENT
BEGIN:VEVENT
DTSTART;TZID=America/Phoenix:20280308T130000
DTEND;TZID=America/Phoenix:20280308T160000
DTSTAMP:20260420T111632
CREATED:20210818T231424Z
LAST-MODIFIED:20250803T033308Z
UID:10003340-1836133200-1836144000@arizonaartistsguild.net
SUMMARY:AAG Open Studio
DESCRIPTION:Afternoon
URL:https://arizonaartistsguild.net/events/aag-open-studio-2022-01-12/2028-03-08/
LOCATION:Arizona Artists Guild\, 18411 N. 7th Avenue\, Phoenix\, AZ\, 85023\, United States
CATEGORIES:AAG - event,Events and Building Schedule,Open Studio
END:VEVENT
BEGIN:VEVENT
DTSTART;TZID=America/Phoenix:20280313T080000
DTEND;TZID=America/Phoenix:20280313T120000
DTSTAMP:20260420T111632
CREATED:20210818T231424Z
LAST-MODIFIED:20240315T145428Z
UID:10003883-1836547200-1836561600@arizonaartistsguild.net
SUMMARY:AAG OPEN STUDIO
DESCRIPTION:Morning session
URL:https://arizonaartistsguild.net/events/aag-open-studio/2028-03-13/
LOCATION:Arizona Artists Guild\, 18411 N. 7th Avenue\, Phoenix\, AZ\, 85023\, United States
CATEGORIES:AAG - event,Events and Building Schedule,Open Studio
END:VEVENT
BEGIN:VEVENT
DTSTART;TZID=America/Phoenix:20280315T130000
DTEND;TZID=America/Phoenix:20280315T160000
DTSTAMP:20260420T111632
CREATED:20210818T231424Z
LAST-MODIFIED:20250803T033308Z
UID:10003341-1836738000-1836748800@arizonaartistsguild.net
SUMMARY:AAG Open Studio
DESCRIPTION:Afternoon
URL:https://arizonaartistsguild.net/events/aag-open-studio-2022-01-12/2028-03-15/
LOCATION:Arizona Artists Guild\, 18411 N. 7th Avenue\, Phoenix\, AZ\, 85023\, United States
CATEGORIES:AAG - event,Events and Building Schedule,Open Studio
END:VEVENT
END:VCALENDAR