BEGIN:VCALENDAR
VERSION:2.0
PRODID:-//Arizona Artists Guild - ECPv6.15.20//NONSGML v1.0//EN
CALSCALE:GREGORIAN
METHOD:PUBLISH
X-ORIGINAL-URL:https://arizonaartistsguild.net
X-WR-CALDESC:Events for Arizona Artists Guild
REFRESH-INTERVAL;VALUE=DURATION:PT1H
X-Robots-Tag:noindex
X-PUBLISHED-TTL:PT1H
BEGIN:VTIMEZONE
TZID:America/Phoenix
BEGIN:STANDARD
TZOFFSETFROM:-0700
TZOFFSETTO:-0700
TZNAME:MST
DTSTART:20260101T000000
END:STANDARD
END:VTIMEZONE
BEGIN:VEVENT
DTSTART;TZID=America/Phoenix:20270602T130000
DTEND;TZID=America/Phoenix:20270602T160000
DTSTAMP:20260419T193815
CREATED:20210818T231424Z
LAST-MODIFIED:20250803T033308Z
UID:10003300-1811941200-1811952000@arizonaartistsguild.net
SUMMARY:AAG Open Studio
DESCRIPTION:Afternoon
URL:https://arizonaartistsguild.net/events/aag-open-studio-2022-01-12/2027-06-02/
LOCATION:Arizona Artists Guild\, 18411 N. 7th Avenue\, Phoenix\, AZ\, 85023\, United States
CATEGORIES:AAG - event,Events and Building Schedule,Open Studio
END:VEVENT
BEGIN:VEVENT
DTSTART;TZID=America/Phoenix:20270607T080000
DTEND;TZID=America/Phoenix:20270607T120000
DTSTAMP:20260419T193815
CREATED:20210818T231424Z
LAST-MODIFIED:20240315T145428Z
UID:10003843-1812355200-1812369600@arizonaartistsguild.net
SUMMARY:AAG OPEN STUDIO
DESCRIPTION:Morning session
URL:https://arizonaartistsguild.net/events/aag-open-studio/2027-06-07/
LOCATION:Arizona Artists Guild\, 18411 N. 7th Avenue\, Phoenix\, AZ\, 85023\, United States
CATEGORIES:AAG - event,Events and Building Schedule,Open Studio
END:VEVENT
BEGIN:VEVENT
DTSTART;TZID=America/Phoenix:20270607T140000
DTEND;TZID=America/Phoenix:20270607T160000
DTSTAMP:20260419T193815
CREATED:20260216T000542Z
LAST-MODIFIED:20260216T001107Z
UID:10004178-1812376800-1812384000@arizonaartistsguild.net
SUMMARY:Critique Group #1 - 1st Monday
DESCRIPTION:
URL:https://arizonaartistsguild.net/events/monday-critique-group-3/2027-06-07/
LOCATION:Arizona Artists Guild\, 18411 N. 7th Avenue\, Phoenix\, AZ\, 85023\, United States
CATEGORIES:AAG - event
END:VEVENT
BEGIN:VEVENT
DTSTART;TZID=America/Phoenix:20270609T130000
DTEND;TZID=America/Phoenix:20270609T160000
DTSTAMP:20260419T193815
CREATED:20210818T231424Z
LAST-MODIFIED:20250803T033308Z
UID:10003301-1812546000-1812556800@arizonaartistsguild.net
SUMMARY:AAG Open Studio
DESCRIPTION:Afternoon
URL:https://arizonaartistsguild.net/events/aag-open-studio-2022-01-12/2027-06-09/
LOCATION:Arizona Artists Guild\, 18411 N. 7th Avenue\, Phoenix\, AZ\, 85023\, United States
CATEGORIES:AAG - event,Events and Building Schedule,Open Studio
END:VEVENT
BEGIN:VEVENT
DTSTART;TZID=America/Phoenix:20270614T080000
DTEND;TZID=America/Phoenix:20270614T120000
DTSTAMP:20260419T193815
CREATED:20210818T231424Z
LAST-MODIFIED:20240315T145428Z
UID:10003844-1812960000-1812974400@arizonaartistsguild.net
SUMMARY:AAG OPEN STUDIO
DESCRIPTION:Morning session
URL:https://arizonaartistsguild.net/events/aag-open-studio/2027-06-14/
LOCATION:Arizona Artists Guild\, 18411 N. 7th Avenue\, Phoenix\, AZ\, 85023\, United States
CATEGORIES:AAG - event,Events and Building Schedule,Open Studio
END:VEVENT
BEGIN:VEVENT
DTSTART;TZID=America/Phoenix:20270615T153000
DTEND;TZID=America/Phoenix:20270615T163000
DTSTAMP:20260419T193815
CREATED:20240210T022854Z
LAST-MODIFIED:20250105T215952Z
UID:10005870-1813073400-1813077000@arizonaartistsguild.net
SUMMARY:New AAG Member Orientation
DESCRIPTION:
URL:https://arizonaartistsguild.net/events/new-aag-member-orientation-3/2027-06-15/
LOCATION:Arizona Artists Guild\, 18411 N. 7th Avenue\, Phoenix\, AZ\, 85023\, United States
CATEGORIES:AAG - event
END:VEVENT
BEGIN:VEVENT
DTSTART;TZID=America/Phoenix:20270616T130000
DTEND;TZID=America/Phoenix:20270616T160000
DTSTAMP:20260419T193815
CREATED:20210818T231424Z
LAST-MODIFIED:20250803T033308Z
UID:10003302-1813150800-1813161600@arizonaartistsguild.net
SUMMARY:AAG Open Studio
DESCRIPTION:Afternoon
URL:https://arizonaartistsguild.net/events/aag-open-studio-2022-01-12/2027-06-16/
LOCATION:Arizona Artists Guild\, 18411 N. 7th Avenue\, Phoenix\, AZ\, 85023\, United States
CATEGORIES:AAG - event,Events and Building Schedule,Open Studio
END:VEVENT
BEGIN:VEVENT
DTSTART;TZID=America/Phoenix:20270621T080000
DTEND;TZID=America/Phoenix:20270621T120000
DTSTAMP:20260419T193815
CREATED:20210818T231424Z
LAST-MODIFIED:20240315T145428Z
UID:10003845-1813564800-1813579200@arizonaartistsguild.net
SUMMARY:AAG OPEN STUDIO
DESCRIPTION:Morning session
URL:https://arizonaartistsguild.net/events/aag-open-studio/2027-06-21/
LOCATION:Arizona Artists Guild\, 18411 N. 7th Avenue\, Phoenix\, AZ\, 85023\, United States
CATEGORIES:AAG - event,Events and Building Schedule,Open Studio
END:VEVENT
BEGIN:VEVENT
DTSTART;TZID=America/Phoenix:20270623T130000
DTEND;TZID=America/Phoenix:20270623T160000
DTSTAMP:20260419T193815
CREATED:20210818T231424Z
LAST-MODIFIED:20250803T033308Z
UID:10003303-1813755600-1813766400@arizonaartistsguild.net
SUMMARY:AAG Open Studio
DESCRIPTION:Afternoon
URL:https://arizonaartistsguild.net/events/aag-open-studio-2022-01-12/2027-06-23/
LOCATION:Arizona Artists Guild\, 18411 N. 7th Avenue\, Phoenix\, AZ\, 85023\, United States
CATEGORIES:AAG - event,Events and Building Schedule,Open Studio
END:VEVENT
BEGIN:VEVENT
DTSTART;TZID=America/Phoenix:20270628T080000
DTEND;TZID=America/Phoenix:20270628T120000
DTSTAMP:20260419T193815
CREATED:20210818T231424Z
LAST-MODIFIED:20240315T145428Z
UID:10003846-1814169600-1814184000@arizonaartistsguild.net
SUMMARY:AAG OPEN STUDIO
DESCRIPTION:Morning session
URL:https://arizonaartistsguild.net/events/aag-open-studio/2027-06-28/
LOCATION:Arizona Artists Guild\, 18411 N. 7th Avenue\, Phoenix\, AZ\, 85023\, United States
CATEGORIES:AAG - event,Events and Building Schedule,Open Studio
END:VEVENT
BEGIN:VEVENT
DTSTART;TZID=America/Phoenix:20270630T130000
DTEND;TZID=America/Phoenix:20270630T160000
DTSTAMP:20260419T193815
CREATED:20210818T231424Z
LAST-MODIFIED:20250803T033308Z
UID:10003304-1814360400-1814371200@arizonaartistsguild.net
SUMMARY:AAG Open Studio
DESCRIPTION:Afternoon
URL:https://arizonaartistsguild.net/events/aag-open-studio-2022-01-12/2027-06-30/
LOCATION:Arizona Artists Guild\, 18411 N. 7th Avenue\, Phoenix\, AZ\, 85023\, United States
CATEGORIES:AAG - event,Events and Building Schedule,Open Studio
END:VEVENT
BEGIN:VEVENT
DTSTART;TZID=America/Phoenix:20270705T080000
DTEND;TZID=America/Phoenix:20270705T120000
DTSTAMP:20260419T193815
CREATED:20210818T231424Z
LAST-MODIFIED:20240315T145428Z
UID:10003847-1814774400-1814788800@arizonaartistsguild.net
SUMMARY:AAG OPEN STUDIO
DESCRIPTION:Morning session
URL:https://arizonaartistsguild.net/events/aag-open-studio/2027-07-05/
LOCATION:Arizona Artists Guild\, 18411 N. 7th Avenue\, Phoenix\, AZ\, 85023\, United States
CATEGORIES:AAG - event,Events and Building Schedule,Open Studio
END:VEVENT
BEGIN:VEVENT
DTSTART;TZID=America/Phoenix:20270705T140000
DTEND;TZID=America/Phoenix:20270705T160000
DTSTAMP:20260419T193815
CREATED:20260216T000542Z
LAST-MODIFIED:20260216T001107Z
UID:10004179-1814796000-1814803200@arizonaartistsguild.net
SUMMARY:Critique Group #1 - 1st Monday
DESCRIPTION:
URL:https://arizonaartistsguild.net/events/monday-critique-group-3/2027-07-05/
LOCATION:Arizona Artists Guild\, 18411 N. 7th Avenue\, Phoenix\, AZ\, 85023\, United States
CATEGORIES:AAG - event
END:VEVENT
BEGIN:VEVENT
DTSTART;TZID=America/Phoenix:20270707T130000
DTEND;TZID=America/Phoenix:20270707T160000
DTSTAMP:20260419T193815
CREATED:20210818T231424Z
LAST-MODIFIED:20250803T033308Z
UID:10003305-1814965200-1814976000@arizonaartistsguild.net
SUMMARY:AAG Open Studio
DESCRIPTION:Afternoon
URL:https://arizonaartistsguild.net/events/aag-open-studio-2022-01-12/2027-07-07/
LOCATION:Arizona Artists Guild\, 18411 N. 7th Avenue\, Phoenix\, AZ\, 85023\, United States
CATEGORIES:AAG - event,Events and Building Schedule,Open Studio
END:VEVENT
BEGIN:VEVENT
DTSTART;TZID=America/Phoenix:20270712T080000
DTEND;TZID=America/Phoenix:20270712T120000
DTSTAMP:20260419T193815
CREATED:20210818T231424Z
LAST-MODIFIED:20240315T145428Z
UID:10003848-1815379200-1815393600@arizonaartistsguild.net
SUMMARY:AAG OPEN STUDIO
DESCRIPTION:Morning session
URL:https://arizonaartistsguild.net/events/aag-open-studio/2027-07-12/
LOCATION:Arizona Artists Guild\, 18411 N. 7th Avenue\, Phoenix\, AZ\, 85023\, United States
CATEGORIES:AAG - event,Events and Building Schedule,Open Studio
END:VEVENT
BEGIN:VEVENT
DTSTART;TZID=America/Phoenix:20270714T130000
DTEND;TZID=America/Phoenix:20270714T160000
DTSTAMP:20260419T193815
CREATED:20210818T231424Z
LAST-MODIFIED:20250803T033308Z
UID:10003306-1815570000-1815580800@arizonaartistsguild.net
SUMMARY:AAG Open Studio
DESCRIPTION:Afternoon
URL:https://arizonaartistsguild.net/events/aag-open-studio-2022-01-12/2027-07-14/
LOCATION:Arizona Artists Guild\, 18411 N. 7th Avenue\, Phoenix\, AZ\, 85023\, United States
CATEGORIES:AAG - event,Events and Building Schedule,Open Studio
END:VEVENT
BEGIN:VEVENT
DTSTART;TZID=America/Phoenix:20270719T080000
DTEND;TZID=America/Phoenix:20270719T120000
DTSTAMP:20260419T193815
CREATED:20210818T231424Z
LAST-MODIFIED:20240315T145428Z
UID:10003849-1815984000-1815998400@arizonaartistsguild.net
SUMMARY:AAG OPEN STUDIO
DESCRIPTION:Morning session
URL:https://arizonaartistsguild.net/events/aag-open-studio/2027-07-19/
LOCATION:Arizona Artists Guild\, 18411 N. 7th Avenue\, Phoenix\, AZ\, 85023\, United States
CATEGORIES:AAG - event,Events and Building Schedule,Open Studio
END:VEVENT
BEGIN:VEVENT
DTSTART;TZID=America/Phoenix:20270720T153000
DTEND;TZID=America/Phoenix:20270720T163000
DTSTAMP:20260419T193815
CREATED:20240210T022854Z
LAST-MODIFIED:20250105T215952Z
UID:10005871-1816097400-1816101000@arizonaartistsguild.net
SUMMARY:New AAG Member Orientation
DESCRIPTION:
URL:https://arizonaartistsguild.net/events/new-aag-member-orientation-3/2027-07-20/
LOCATION:Arizona Artists Guild\, 18411 N. 7th Avenue\, Phoenix\, AZ\, 85023\, United States
CATEGORIES:AAG - event
END:VEVENT
BEGIN:VEVENT
DTSTART;TZID=America/Phoenix:20270721T130000
DTEND;TZID=America/Phoenix:20270721T160000
DTSTAMP:20260419T193815
CREATED:20210818T231424Z
LAST-MODIFIED:20250803T033308Z
UID:10003307-1816174800-1816185600@arizonaartistsguild.net
SUMMARY:AAG Open Studio
DESCRIPTION:Afternoon
URL:https://arizonaartistsguild.net/events/aag-open-studio-2022-01-12/2027-07-21/
LOCATION:Arizona Artists Guild\, 18411 N. 7th Avenue\, Phoenix\, AZ\, 85023\, United States
CATEGORIES:AAG - event,Events and Building Schedule,Open Studio
END:VEVENT
BEGIN:VEVENT
DTSTART;TZID=America/Phoenix:20270726T080000
DTEND;TZID=America/Phoenix:20270726T120000
DTSTAMP:20260419T193815
CREATED:20210818T231424Z
LAST-MODIFIED:20240315T145428Z
UID:10003850-1816588800-1816603200@arizonaartistsguild.net
SUMMARY:AAG OPEN STUDIO
DESCRIPTION:Morning session
URL:https://arizonaartistsguild.net/events/aag-open-studio/2027-07-26/
LOCATION:Arizona Artists Guild\, 18411 N. 7th Avenue\, Phoenix\, AZ\, 85023\, United States
CATEGORIES:AAG - event,Events and Building Schedule,Open Studio
END:VEVENT
BEGIN:VEVENT
DTSTART;TZID=America/Phoenix:20270728T130000
DTEND;TZID=America/Phoenix:20270728T160000
DTSTAMP:20260419T193815
CREATED:20210818T231424Z
LAST-MODIFIED:20250803T033308Z
UID:10003308-1816779600-1816790400@arizonaartistsguild.net
SUMMARY:AAG Open Studio
DESCRIPTION:Afternoon
URL:https://arizonaartistsguild.net/events/aag-open-studio-2022-01-12/2027-07-28/
LOCATION:Arizona Artists Guild\, 18411 N. 7th Avenue\, Phoenix\, AZ\, 85023\, United States
CATEGORIES:AAG - event,Events and Building Schedule,Open Studio
END:VEVENT
BEGIN:VEVENT
DTSTART;TZID=America/Phoenix:20270802T080000
DTEND;TZID=America/Phoenix:20270802T120000
DTSTAMP:20260419T193815
CREATED:20210818T231424Z
LAST-MODIFIED:20240315T145428Z
UID:10003851-1817193600-1817208000@arizonaartistsguild.net
SUMMARY:AAG OPEN STUDIO
DESCRIPTION:Morning session
URL:https://arizonaartistsguild.net/events/aag-open-studio/2027-08-02/
LOCATION:Arizona Artists Guild\, 18411 N. 7th Avenue\, Phoenix\, AZ\, 85023\, United States
CATEGORIES:AAG - event,Events and Building Schedule,Open Studio
END:VEVENT
BEGIN:VEVENT
DTSTART;TZID=America/Phoenix:20270802T140000
DTEND;TZID=America/Phoenix:20270802T160000
DTSTAMP:20260419T193815
CREATED:20260216T000542Z
LAST-MODIFIED:20260216T001107Z
UID:10004180-1817215200-1817222400@arizonaartistsguild.net
SUMMARY:Critique Group #1 - 1st Monday
DESCRIPTION:
URL:https://arizonaartistsguild.net/events/monday-critique-group-3/2027-08-02/
LOCATION:Arizona Artists Guild\, 18411 N. 7th Avenue\, Phoenix\, AZ\, 85023\, United States
CATEGORIES:AAG - event
END:VEVENT
BEGIN:VEVENT
DTSTART;TZID=America/Phoenix:20270804T130000
DTEND;TZID=America/Phoenix:20270804T160000
DTSTAMP:20260419T193815
CREATED:20210818T231424Z
LAST-MODIFIED:20250803T033308Z
UID:10003309-1817384400-1817395200@arizonaartistsguild.net
SUMMARY:AAG Open Studio
DESCRIPTION:Afternoon
URL:https://arizonaartistsguild.net/events/aag-open-studio-2022-01-12/2027-08-04/
LOCATION:Arizona Artists Guild\, 18411 N. 7th Avenue\, Phoenix\, AZ\, 85023\, United States
CATEGORIES:AAG - event,Events and Building Schedule,Open Studio
END:VEVENT
BEGIN:VEVENT
DTSTART;TZID=America/Phoenix:20270809T080000
DTEND;TZID=America/Phoenix:20270809T120000
DTSTAMP:20260419T193815
CREATED:20210818T231424Z
LAST-MODIFIED:20240315T145428Z
UID:10003852-1817798400-1817812800@arizonaartistsguild.net
SUMMARY:AAG OPEN STUDIO
DESCRIPTION:Morning session
URL:https://arizonaartistsguild.net/events/aag-open-studio/2027-08-09/
LOCATION:Arizona Artists Guild\, 18411 N. 7th Avenue\, Phoenix\, AZ\, 85023\, United States
CATEGORIES:AAG - event,Events and Building Schedule,Open Studio
END:VEVENT
BEGIN:VEVENT
DTSTART;TZID=America/Phoenix:20270811T130000
DTEND;TZID=America/Phoenix:20270811T160000
DTSTAMP:20260419T193815
CREATED:20210818T231424Z
LAST-MODIFIED:20250803T033308Z
UID:10003310-1817989200-1818000000@arizonaartistsguild.net
SUMMARY:AAG Open Studio
DESCRIPTION:Afternoon
URL:https://arizonaartistsguild.net/events/aag-open-studio-2022-01-12/2027-08-11/
LOCATION:Arizona Artists Guild\, 18411 N. 7th Avenue\, Phoenix\, AZ\, 85023\, United States
CATEGORIES:AAG - event,Events and Building Schedule,Open Studio
END:VEVENT
BEGIN:VEVENT
DTSTART;TZID=America/Phoenix:20270816T080000
DTEND;TZID=America/Phoenix:20270816T120000
DTSTAMP:20260419T193815
CREATED:20210818T231424Z
LAST-MODIFIED:20240315T145428Z
UID:10003853-1818403200-1818417600@arizonaartistsguild.net
SUMMARY:AAG OPEN STUDIO
DESCRIPTION:Morning session
URL:https://arizonaartistsguild.net/events/aag-open-studio/2027-08-16/
LOCATION:Arizona Artists Guild\, 18411 N. 7th Avenue\, Phoenix\, AZ\, 85023\, United States
CATEGORIES:AAG - event,Events and Building Schedule,Open Studio
END:VEVENT
BEGIN:VEVENT
DTSTART;TZID=America/Phoenix:20270817T153000
DTEND;TZID=America/Phoenix:20270817T163000
DTSTAMP:20260419T193815
CREATED:20240210T022854Z
LAST-MODIFIED:20250105T215952Z
UID:10005872-1818516600-1818520200@arizonaartistsguild.net
SUMMARY:New AAG Member Orientation
DESCRIPTION:
URL:https://arizonaartistsguild.net/events/new-aag-member-orientation-3/2027-08-17/
LOCATION:Arizona Artists Guild\, 18411 N. 7th Avenue\, Phoenix\, AZ\, 85023\, United States
CATEGORIES:AAG - event
END:VEVENT
BEGIN:VEVENT
DTSTART;TZID=America/Phoenix:20270818T130000
DTEND;TZID=America/Phoenix:20270818T160000
DTSTAMP:20260419T193815
CREATED:20210818T231424Z
LAST-MODIFIED:20250803T033308Z
UID:10003311-1818594000-1818604800@arizonaartistsguild.net
SUMMARY:AAG Open Studio
DESCRIPTION:Afternoon
URL:https://arizonaartistsguild.net/events/aag-open-studio-2022-01-12/2027-08-18/
LOCATION:Arizona Artists Guild\, 18411 N. 7th Avenue\, Phoenix\, AZ\, 85023\, United States
CATEGORIES:AAG - event,Events and Building Schedule,Open Studio
END:VEVENT
BEGIN:VEVENT
DTSTART;TZID=America/Phoenix:20270823T080000
DTEND;TZID=America/Phoenix:20270823T120000
DTSTAMP:20260419T193815
CREATED:20210818T231424Z
LAST-MODIFIED:20240315T145428Z
UID:10003854-1819008000-1819022400@arizonaartistsguild.net
SUMMARY:AAG OPEN STUDIO
DESCRIPTION:Morning session
URL:https://arizonaartistsguild.net/events/aag-open-studio/2027-08-23/
LOCATION:Arizona Artists Guild\, 18411 N. 7th Avenue\, Phoenix\, AZ\, 85023\, United States
CATEGORIES:AAG - event,Events and Building Schedule,Open Studio
END:VEVENT
END:VCALENDAR