BEGIN:VCALENDAR
VERSION:2.0
PRODID:-//Arizona Artists Guild - ECPv6.15.20//NONSGML v1.0//EN
CALSCALE:GREGORIAN
METHOD:PUBLISH
X-WR-CALNAME:Arizona Artists Guild
X-ORIGINAL-URL:https://arizonaartistsguild.net
X-WR-CALDESC:Events for Arizona Artists Guild
REFRESH-INTERVAL;VALUE=DURATION:PT1H
X-Robots-Tag:noindex
X-PUBLISHED-TTL:PT1H
BEGIN:VTIMEZONE
TZID:America/Phoenix
BEGIN:STANDARD
TZOFFSETFROM:-0700
TZOFFSETTO:-0700
TZNAME:MST
DTSTART:20240101T000000
END:STANDARD
END:VTIMEZONE
BEGIN:VEVENT
DTSTART;TZID=America/Phoenix:20250618T130000
DTEND;TZID=America/Phoenix:20250618T160000
DTSTAMP:20260421T224847
CREATED:20210818T231424Z
LAST-MODIFIED:20250803T033308Z
UID:10003198-1750251600-1750262400@arizonaartistsguild.net
SUMMARY:AAG Open Studio
DESCRIPTION:Afternoon
URL:https://arizonaartistsguild.net/events/aag-open-studio-2022-01-12/2025-06-18/
LOCATION:Arizona Artists Guild\, 18411 N. 7th Avenue\, Phoenix\, AZ\, 85023\, United States
CATEGORIES:AAG - event,Events and Building Schedule,Open Studio
END:VEVENT
BEGIN:VEVENT
DTSTART;TZID=America/Phoenix:20250617T153000
DTEND;TZID=America/Phoenix:20250617T163000
DTSTAMP:20260421T224847
CREATED:20240210T022854Z
LAST-MODIFIED:20250105T215952Z
UID:10005846-1750174200-1750177800@arizonaartistsguild.net
SUMMARY:New AAG Member Orientation
DESCRIPTION:
URL:https://arizonaartistsguild.net/events/new-aag-member-orientation-3/2025-06-17/
LOCATION:Arizona Artists Guild\, 18411 N. 7th Avenue\, Phoenix\, AZ\, 85023\, United States
CATEGORIES:AAG - event
END:VEVENT
BEGIN:VEVENT
DTSTART;TZID=America/Phoenix:20250616T080000
DTEND;TZID=America/Phoenix:20250616T120000
DTSTAMP:20260421T224847
CREATED:20210818T231424Z
LAST-MODIFIED:20240315T145428Z
UID:10003740-1750060800-1750075200@arizonaartistsguild.net
SUMMARY:AAG OPEN STUDIO
DESCRIPTION:Morning session
URL:https://arizonaartistsguild.net/events/aag-open-studio/2025-06-16/
LOCATION:Arizona Artists Guild\, 18411 N. 7th Avenue\, Phoenix\, AZ\, 85023\, United States
CATEGORIES:AAG - event,Events and Building Schedule,Open Studio
END:VEVENT
BEGIN:VEVENT
DTSTART;TZID=America/Phoenix:20250611T130000
DTEND;TZID=America/Phoenix:20250611T160000
DTSTAMP:20260421T224847
CREATED:20210818T231424Z
LAST-MODIFIED:20250803T033308Z
UID:10003197-1749646800-1749657600@arizonaartistsguild.net
SUMMARY:AAG Open Studio
DESCRIPTION:Afternoon
URL:https://arizonaartistsguild.net/events/aag-open-studio-2022-01-12/2025-06-11/
LOCATION:Arizona Artists Guild\, 18411 N. 7th Avenue\, Phoenix\, AZ\, 85023\, United States
CATEGORIES:AAG - event,Events and Building Schedule,Open Studio
END:VEVENT
BEGIN:VEVENT
DTSTART;TZID=America/Phoenix:20250609T080000
DTEND;TZID=America/Phoenix:20250609T120000
DTSTAMP:20260421T224847
CREATED:20210818T231424Z
LAST-MODIFIED:20240315T145428Z
UID:10003739-1749456000-1749470400@arizonaartistsguild.net
SUMMARY:AAG OPEN STUDIO
DESCRIPTION:Morning session
URL:https://arizonaartistsguild.net/events/aag-open-studio/2025-06-09/
LOCATION:Arizona Artists Guild\, 18411 N. 7th Avenue\, Phoenix\, AZ\, 85023\, United States
CATEGORIES:AAG - event,Events and Building Schedule,Open Studio
END:VEVENT
BEGIN:VEVENT
DTSTART;TZID=America/Phoenix:20250604T130000
DTEND;TZID=America/Phoenix:20250604T160000
DTSTAMP:20260421T224847
CREATED:20210818T231424Z
LAST-MODIFIED:20250803T033308Z
UID:10003196-1749042000-1749052800@arizonaartistsguild.net
SUMMARY:AAG Open Studio
DESCRIPTION:Afternoon
URL:https://arizonaartistsguild.net/events/aag-open-studio-2022-01-12/2025-06-04/
LOCATION:Arizona Artists Guild\, 18411 N. 7th Avenue\, Phoenix\, AZ\, 85023\, United States
CATEGORIES:AAG - event,Events and Building Schedule,Open Studio
END:VEVENT
BEGIN:VEVENT
DTSTART;TZID=America/Phoenix:20250602T140000
DTEND;TZID=America/Phoenix:20250602T160000
DTSTAMP:20260421T224847
CREATED:20240209T015313Z
LAST-MODIFIED:20240209T015642Z
UID:10004154-1748872800-1748880000@arizonaartistsguild.net
SUMMARY:Monday Critique Group
DESCRIPTION:
URL:https://arizonaartistsguild.net/events/monday-critique-group/2025-06-02/
LOCATION:Arizona Artists Guild\, 18411 N. 7th Avenue\, Phoenix\, AZ\, 85023\, United States
CATEGORIES:AAG - event
END:VEVENT
BEGIN:VEVENT
DTSTART;TZID=America/Phoenix:20250602T080000
DTEND;TZID=America/Phoenix:20250602T120000
DTSTAMP:20260421T224847
CREATED:20210818T231424Z
LAST-MODIFIED:20240315T145428Z
UID:10003738-1748851200-1748865600@arizonaartistsguild.net
SUMMARY:AAG OPEN STUDIO
DESCRIPTION:Morning session
URL:https://arizonaartistsguild.net/events/aag-open-studio/2025-06-02/
LOCATION:Arizona Artists Guild\, 18411 N. 7th Avenue\, Phoenix\, AZ\, 85023\, United States
CATEGORIES:AAG - event,Events and Building Schedule,Open Studio
END:VEVENT
BEGIN:VEVENT
DTSTART;TZID=America/Phoenix:20250528T130000
DTEND;TZID=America/Phoenix:20250528T160000
DTSTAMP:20260421T224847
CREATED:20210818T231424Z
LAST-MODIFIED:20250803T033308Z
UID:10003195-1748437200-1748448000@arizonaartistsguild.net
SUMMARY:AAG Open Studio
DESCRIPTION:Afternoon
URL:https://arizonaartistsguild.net/events/aag-open-studio-2022-01-12/2025-05-28/
LOCATION:Arizona Artists Guild\, 18411 N. 7th Avenue\, Phoenix\, AZ\, 85023\, United States
CATEGORIES:AAG - event,Events and Building Schedule,Open Studio
END:VEVENT
BEGIN:VEVENT
DTSTART;TZID=America/Phoenix:20250526T080000
DTEND;TZID=America/Phoenix:20250526T120000
DTSTAMP:20260421T224847
CREATED:20210818T231424Z
LAST-MODIFIED:20240315T145428Z
UID:10003737-1748246400-1748260800@arizonaartistsguild.net
SUMMARY:AAG OPEN STUDIO
DESCRIPTION:Morning session
URL:https://arizonaartistsguild.net/events/aag-open-studio/2025-05-26/
LOCATION:Arizona Artists Guild\, 18411 N. 7th Avenue\, Phoenix\, AZ\, 85023\, United States
CATEGORIES:AAG - event,Events and Building Schedule,Open Studio
END:VEVENT
BEGIN:VEVENT
DTSTART;TZID=America/Phoenix:20250521T130000
DTEND;TZID=America/Phoenix:20250521T160000
DTSTAMP:20260421T224847
CREATED:20210818T231424Z
LAST-MODIFIED:20250803T033308Z
UID:10003194-1747832400-1747843200@arizonaartistsguild.net
SUMMARY:AAG Open Studio
DESCRIPTION:Afternoon
URL:https://arizonaartistsguild.net/events/aag-open-studio-2022-01-12/2025-05-21/
LOCATION:Arizona Artists Guild\, 18411 N. 7th Avenue\, Phoenix\, AZ\, 85023\, United States
CATEGORIES:AAG - event,Events and Building Schedule,Open Studio
END:VEVENT
BEGIN:VEVENT
DTSTART;TZID=America/Phoenix:20250520T153000
DTEND;TZID=America/Phoenix:20250520T163000
DTSTAMP:20260421T224847
CREATED:20240210T022854Z
LAST-MODIFIED:20250105T215952Z
UID:10005845-1747755000-1747758600@arizonaartistsguild.net
SUMMARY:New AAG Member Orientation
DESCRIPTION:
URL:https://arizonaartistsguild.net/events/new-aag-member-orientation-3/2025-05-20/
LOCATION:Arizona Artists Guild\, 18411 N. 7th Avenue\, Phoenix\, AZ\, 85023\, United States
CATEGORIES:AAG - event
END:VEVENT
BEGIN:VEVENT
DTSTART;TZID=America/Phoenix:20250519T080000
DTEND;TZID=America/Phoenix:20250519T120000
DTSTAMP:20260421T224847
CREATED:20210818T231424Z
LAST-MODIFIED:20240315T145428Z
UID:10003736-1747641600-1747656000@arizonaartistsguild.net
SUMMARY:AAG OPEN STUDIO
DESCRIPTION:Morning session
URL:https://arizonaartistsguild.net/events/aag-open-studio/2025-05-19/
LOCATION:Arizona Artists Guild\, 18411 N. 7th Avenue\, Phoenix\, AZ\, 85023\, United States
CATEGORIES:AAG - event,Events and Building Schedule,Open Studio
END:VEVENT
BEGIN:VEVENT
DTSTART;TZID=America/Phoenix:20250514T130000
DTEND;TZID=America/Phoenix:20250514T160000
DTSTAMP:20260421T224847
CREATED:20210818T231424Z
LAST-MODIFIED:20250803T033308Z
UID:10003193-1747227600-1747238400@arizonaartistsguild.net
SUMMARY:AAG Open Studio
DESCRIPTION:Afternoon
URL:https://arizonaartistsguild.net/events/aag-open-studio-2022-01-12/2025-05-14/
LOCATION:Arizona Artists Guild\, 18411 N. 7th Avenue\, Phoenix\, AZ\, 85023\, United States
CATEGORIES:AAG - event,Events and Building Schedule,Open Studio
END:VEVENT
BEGIN:VEVENT
DTSTART;TZID=America/Phoenix:20250512T080000
DTEND;TZID=America/Phoenix:20250512T120000
DTSTAMP:20260421T224847
CREATED:20210818T231424Z
LAST-MODIFIED:20240315T145428Z
UID:10003735-1747036800-1747051200@arizonaartistsguild.net
SUMMARY:AAG OPEN STUDIO
DESCRIPTION:Morning session
URL:https://arizonaartistsguild.net/events/aag-open-studio/2025-05-12/
LOCATION:Arizona Artists Guild\, 18411 N. 7th Avenue\, Phoenix\, AZ\, 85023\, United States
CATEGORIES:AAG - event,Events and Building Schedule,Open Studio
END:VEVENT
BEGIN:VEVENT
DTSTART;TZID=America/Phoenix:20250507T130000
DTEND;TZID=America/Phoenix:20250507T160000
DTSTAMP:20260421T224847
CREATED:20210818T231424Z
LAST-MODIFIED:20250803T033308Z
UID:10003192-1746622800-1746633600@arizonaartistsguild.net
SUMMARY:AAG Open Studio
DESCRIPTION:Afternoon
URL:https://arizonaartistsguild.net/events/aag-open-studio-2022-01-12/2025-05-07/
LOCATION:Arizona Artists Guild\, 18411 N. 7th Avenue\, Phoenix\, AZ\, 85023\, United States
CATEGORIES:AAG - event,Events and Building Schedule,Open Studio
END:VEVENT
BEGIN:VEVENT
DTSTART;TZID=America/Phoenix:20250505T140000
DTEND;TZID=America/Phoenix:20250505T160000
DTSTAMP:20260421T224847
CREATED:20240209T015313Z
LAST-MODIFIED:20240209T015642Z
UID:10004153-1746453600-1746460800@arizonaartistsguild.net
SUMMARY:Monday Critique Group
DESCRIPTION:
URL:https://arizonaartistsguild.net/events/monday-critique-group/2025-05-05/
LOCATION:Arizona Artists Guild\, 18411 N. 7th Avenue\, Phoenix\, AZ\, 85023\, United States
CATEGORIES:AAG - event
END:VEVENT
BEGIN:VEVENT
DTSTART;TZID=America/Phoenix:20250505T080000
DTEND;TZID=America/Phoenix:20250505T120000
DTSTAMP:20260421T224847
CREATED:20210818T231424Z
LAST-MODIFIED:20240315T145428Z
UID:10003734-1746432000-1746446400@arizonaartistsguild.net
SUMMARY:AAG OPEN STUDIO
DESCRIPTION:Morning session
URL:https://arizonaartistsguild.net/events/aag-open-studio/2025-05-05/
LOCATION:Arizona Artists Guild\, 18411 N. 7th Avenue\, Phoenix\, AZ\, 85023\, United States
CATEGORIES:AAG - event,Events and Building Schedule,Open Studio
END:VEVENT
BEGIN:VEVENT
DTSTART;TZID=America/Phoenix:20250430T130000
DTEND;TZID=America/Phoenix:20250430T160000
DTSTAMP:20260421T224847
CREATED:20210818T231424Z
LAST-MODIFIED:20250803T033308Z
UID:10003191-1746018000-1746028800@arizonaartistsguild.net
SUMMARY:AAG Open Studio
DESCRIPTION:Afternoon
URL:https://arizonaartistsguild.net/events/aag-open-studio-2022-01-12/2025-04-30/
LOCATION:Arizona Artists Guild\, 18411 N. 7th Avenue\, Phoenix\, AZ\, 85023\, United States
CATEGORIES:AAG - event,Events and Building Schedule,Open Studio
END:VEVENT
BEGIN:VEVENT
DTSTART;TZID=America/Phoenix:20250428T080000
DTEND;TZID=America/Phoenix:20250428T120000
DTSTAMP:20260421T224847
CREATED:20210818T231424Z
LAST-MODIFIED:20240315T145428Z
UID:10003733-1745827200-1745841600@arizonaartistsguild.net
SUMMARY:AAG OPEN STUDIO
DESCRIPTION:Morning session
URL:https://arizonaartistsguild.net/events/aag-open-studio/2025-04-28/
LOCATION:Arizona Artists Guild\, 18411 N. 7th Avenue\, Phoenix\, AZ\, 85023\, United States
CATEGORIES:AAG - event,Events and Building Schedule,Open Studio
END:VEVENT
BEGIN:VEVENT
DTSTART;TZID=America/Phoenix:20250427T140000
DTEND;TZID=America/Phoenix:20250427T160000
DTSTAMP:20260421T224847
CREATED:20240210T234756Z
LAST-MODIFIED:20240803T182421Z
UID:10004332-1745762400-1745769600@arizonaartistsguild.net
SUMMARY:AAG Spring Exhibition Reception & Award Ceremony
DESCRIPTION:
URL:https://arizonaartistsguild.net/events/2025-aag-spring-exhibition-reception-award-ceremony/
LOCATION:Arizona Artists Guild\, 18411 N. 7th Avenue\, Phoenix\, AZ\, 85023\, United States
CATEGORIES:AAG - event
END:VEVENT
BEGIN:VEVENT
DTSTART;TZID=America/Phoenix:20250423T130000
DTEND;TZID=America/Phoenix:20250423T160000
DTSTAMP:20260421T224847
CREATED:20210818T231424Z
LAST-MODIFIED:20250803T033308Z
UID:10003190-1745413200-1745424000@arizonaartistsguild.net
SUMMARY:AAG Open Studio
DESCRIPTION:Afternoon
URL:https://arizonaartistsguild.net/events/aag-open-studio-2022-01-12/2025-04-23/
LOCATION:Arizona Artists Guild\, 18411 N. 7th Avenue\, Phoenix\, AZ\, 85023\, United States
CATEGORIES:AAG - event,Events and Building Schedule,Open Studio
END:VEVENT
END:VCALENDAR