BEGIN:VCALENDAR
VERSION:2.0
PRODID:-//Arizona Artists Guild - ECPv6.15.20//NONSGML v1.0//EN
CALSCALE:GREGORIAN
METHOD:PUBLISH
X-ORIGINAL-URL:https://arizonaartistsguild.net
X-WR-CALDESC:Events for Arizona Artists Guild
REFRESH-INTERVAL;VALUE=DURATION:PT1H
X-Robots-Tag:noindex
X-PUBLISHED-TTL:PT1H
BEGIN:VTIMEZONE
TZID:America/Phoenix
BEGIN:STANDARD
TZOFFSETFROM:-0700
TZOFFSETTO:-0700
TZNAME:MST
DTSTART:20270101T000000
END:STANDARD
END:VTIMEZONE
BEGIN:VEVENT
DTSTART;TZID=America/Phoenix:20280904T080000
DTEND;TZID=America/Phoenix:20280904T120000
DTSTAMP:20260423T145142
CREATED:20210818T231424Z
LAST-MODIFIED:20240315T145428Z
UID:10003908-1851667200-1851681600@arizonaartistsguild.net
SUMMARY:AAG OPEN STUDIO
DESCRIPTION:Morning session
URL:https://arizonaartistsguild.net/events/aag-open-studio/2028-09-04/
LOCATION:Arizona Artists Guild\, 18411 N. 7th Avenue\, Phoenix\, AZ\, 85023\, United States
CATEGORIES:AAG - event,Events and Building Schedule,Open Studio
END:VEVENT
BEGIN:VEVENT
DTSTART;TZID=America/Phoenix:20280904T140000
DTEND;TZID=America/Phoenix:20280904T160000
DTSTAMP:20260423T145142
CREATED:20260216T000542Z
LAST-MODIFIED:20260216T001107Z
UID:10004193-1851688800-1851696000@arizonaartistsguild.net
SUMMARY:Critique Group #1 - 1st Monday
DESCRIPTION:
URL:https://arizonaartistsguild.net/events/monday-critique-group-3/2028-09-04/
LOCATION:Arizona Artists Guild\, 18411 N. 7th Avenue\, Phoenix\, AZ\, 85023\, United States
CATEGORIES:AAG - event
END:VEVENT
BEGIN:VEVENT
DTSTART;TZID=America/Phoenix:20280906T130000
DTEND;TZID=America/Phoenix:20280906T160000
DTSTAMP:20260423T145142
CREATED:20210818T231424Z
LAST-MODIFIED:20250803T033308Z
UID:10003959-1851858000-1851868800@arizonaartistsguild.net
SUMMARY:AAG Open Studio
DESCRIPTION:Afternoon
URL:https://arizonaartistsguild.net/events/aag-open-studio-2022-01-12/2028-09-06/
LOCATION:Arizona Artists Guild\, 18411 N. 7th Avenue\, Phoenix\, AZ\, 85023\, United States
CATEGORIES:AAG - event,Events and Building Schedule,Open Studio
END:VEVENT
BEGIN:VEVENT
DTSTART;TZID=America/Phoenix:20280911T080000
DTEND;TZID=America/Phoenix:20280911T120000
DTSTAMP:20260423T145142
CREATED:20210818T231424Z
LAST-MODIFIED:20240315T145428Z
UID:10003919-1852272000-1852286400@arizonaartistsguild.net
SUMMARY:AAG OPEN STUDIO
DESCRIPTION:Morning session
URL:https://arizonaartistsguild.net/events/aag-open-studio/2028-09-11/
LOCATION:Arizona Artists Guild\, 18411 N. 7th Avenue\, Phoenix\, AZ\, 85023\, United States
CATEGORIES:AAG - event,Events and Building Schedule,Open Studio
END:VEVENT
BEGIN:VEVENT
DTSTART;TZID=America/Phoenix:20280913T130000
DTEND;TZID=America/Phoenix:20280913T160000
DTSTAMP:20260423T145142
CREATED:20210818T231424Z
LAST-MODIFIED:20250803T033308Z
UID:10003960-1852462800-1852473600@arizonaartistsguild.net
SUMMARY:AAG Open Studio
DESCRIPTION:Afternoon
URL:https://arizonaartistsguild.net/events/aag-open-studio-2022-01-12/2028-09-13/
LOCATION:Arizona Artists Guild\, 18411 N. 7th Avenue\, Phoenix\, AZ\, 85023\, United States
CATEGORIES:AAG - event,Events and Building Schedule,Open Studio
END:VEVENT
BEGIN:VEVENT
DTSTART;TZID=America/Phoenix:20280918T080000
DTEND;TZID=America/Phoenix:20280918T120000
DTSTAMP:20260423T145142
CREATED:20210818T231424Z
LAST-MODIFIED:20240315T145428Z
UID:10003920-1852876800-1852891200@arizonaartistsguild.net
SUMMARY:AAG OPEN STUDIO
DESCRIPTION:Morning session
URL:https://arizonaartistsguild.net/events/aag-open-studio/2028-09-18/
LOCATION:Arizona Artists Guild\, 18411 N. 7th Avenue\, Phoenix\, AZ\, 85023\, United States
CATEGORIES:AAG - event,Events and Building Schedule,Open Studio
END:VEVENT
BEGIN:VEVENT
DTSTART;TZID=America/Phoenix:20280919T153000
DTEND;TZID=America/Phoenix:20280919T163000
DTSTAMP:20260423T145142
CREATED:20240210T022854Z
LAST-MODIFIED:20250105T215952Z
UID:10005885-1852990200-1852993800@arizonaartistsguild.net
SUMMARY:New AAG Member Orientation
DESCRIPTION:
URL:https://arizonaartistsguild.net/events/new-aag-member-orientation-3/2028-09-19/
LOCATION:Arizona Artists Guild\, 18411 N. 7th Avenue\, Phoenix\, AZ\, 85023\, United States
CATEGORIES:AAG - event
END:VEVENT
BEGIN:VEVENT
DTSTART;TZID=America/Phoenix:20280920T130000
DTEND;TZID=America/Phoenix:20280920T160000
DTSTAMP:20260423T145142
CREATED:20210818T231424Z
LAST-MODIFIED:20250803T033308Z
UID:10003961-1853067600-1853078400@arizonaartistsguild.net
SUMMARY:AAG Open Studio
DESCRIPTION:Afternoon
URL:https://arizonaartistsguild.net/events/aag-open-studio-2022-01-12/2028-09-20/
LOCATION:Arizona Artists Guild\, 18411 N. 7th Avenue\, Phoenix\, AZ\, 85023\, United States
CATEGORIES:AAG - event,Events and Building Schedule,Open Studio
END:VEVENT
BEGIN:VEVENT
DTSTART;TZID=America/Phoenix:20280925T080000
DTEND;TZID=America/Phoenix:20280925T120000
DTSTAMP:20260423T145142
CREATED:20210818T231424Z
LAST-MODIFIED:20240315T145428Z
UID:10003924-1853481600-1853496000@arizonaartistsguild.net
SUMMARY:AAG OPEN STUDIO
DESCRIPTION:Morning session
URL:https://arizonaartistsguild.net/events/aag-open-studio/2028-09-25/
LOCATION:Arizona Artists Guild\, 18411 N. 7th Avenue\, Phoenix\, AZ\, 85023\, United States
CATEGORIES:AAG - event,Events and Building Schedule,Open Studio
END:VEVENT
BEGIN:VEVENT
DTSTART;TZID=America/Phoenix:20280927T130000
DTEND;TZID=America/Phoenix:20280927T160000
DTSTAMP:20260423T145142
CREATED:20210818T231424Z
LAST-MODIFIED:20250803T033308Z
UID:10003962-1853672400-1853683200@arizonaartistsguild.net
SUMMARY:AAG Open Studio
DESCRIPTION:Afternoon
URL:https://arizonaartistsguild.net/events/aag-open-studio-2022-01-12/2028-09-27/
LOCATION:Arizona Artists Guild\, 18411 N. 7th Avenue\, Phoenix\, AZ\, 85023\, United States
CATEGORIES:AAG - event,Events and Building Schedule,Open Studio
END:VEVENT
END:VCALENDAR