BEGIN:VCALENDAR
VERSION:2.0
PRODID:-//Arizona Artists Guild - ECPv6.15.20//NONSGML v1.0//EN
CALSCALE:GREGORIAN
METHOD:PUBLISH
X-ORIGINAL-URL:https://arizonaartistsguild.net
X-WR-CALDESC:Events for Arizona Artists Guild
REFRESH-INTERVAL;VALUE=DURATION:PT1H
X-Robots-Tag:noindex
X-PUBLISHED-TTL:PT1H
BEGIN:VTIMEZONE
TZID:America/Phoenix
BEGIN:STANDARD
TZOFFSETFROM:-0700
TZOFFSETTO:-0700
TZNAME:MST
DTSTART:20260101T000000
END:STANDARD
END:VTIMEZONE
BEGIN:VEVENT
DTSTART;TZID=America/Phoenix:20270104T080000
DTEND;TZID=America/Phoenix:20270104T120000
DTSTAMP:20260421T225618
CREATED:20210818T231424Z
LAST-MODIFIED:20240315T145428Z
UID:10003821-1799049600-1799064000@arizonaartistsguild.net
SUMMARY:AAG OPEN STUDIO
DESCRIPTION:Morning session
URL:https://arizonaartistsguild.net/events/aag-open-studio/2027-01-04/
LOCATION:Arizona Artists Guild\, 18411 N. 7th Avenue\, Phoenix\, AZ\, 85023\, United States
CATEGORIES:AAG - event,Events and Building Schedule,Open Studio
END:VEVENT
BEGIN:VEVENT
DTSTART;TZID=America/Phoenix:20270104T140000
DTEND;TZID=America/Phoenix:20270104T160000
DTSTAMP:20260421T225618
CREATED:20260216T000542Z
LAST-MODIFIED:20260216T001107Z
UID:10004173-1799071200-1799078400@arizonaartistsguild.net
SUMMARY:Critique Group #1 - 1st Monday
DESCRIPTION:
URL:https://arizonaartistsguild.net/events/monday-critique-group-3/2027-01-04/
LOCATION:Arizona Artists Guild\, 18411 N. 7th Avenue\, Phoenix\, AZ\, 85023\, United States
CATEGORIES:AAG - event
END:VEVENT
BEGIN:VEVENT
DTSTART;TZID=America/Phoenix:20270106T130000
DTEND;TZID=America/Phoenix:20270106T160000
DTSTAMP:20260421T225618
CREATED:20210818T231424Z
LAST-MODIFIED:20250803T033308Z
UID:10003279-1799240400-1799251200@arizonaartistsguild.net
SUMMARY:AAG Open Studio
DESCRIPTION:Afternoon
URL:https://arizonaartistsguild.net/events/aag-open-studio-2022-01-12/2027-01-06/
LOCATION:Arizona Artists Guild\, 18411 N. 7th Avenue\, Phoenix\, AZ\, 85023\, United States
CATEGORIES:AAG - event,Events and Building Schedule,Open Studio
END:VEVENT
BEGIN:VEVENT
DTSTART;TZID=America/Phoenix:20270111T080000
DTEND;TZID=America/Phoenix:20270111T120000
DTSTAMP:20260421T225618
CREATED:20210818T231424Z
LAST-MODIFIED:20240315T145428Z
UID:10003822-1799654400-1799668800@arizonaartistsguild.net
SUMMARY:AAG OPEN STUDIO
DESCRIPTION:Morning session
URL:https://arizonaartistsguild.net/events/aag-open-studio/2027-01-11/
LOCATION:Arizona Artists Guild\, 18411 N. 7th Avenue\, Phoenix\, AZ\, 85023\, United States
CATEGORIES:AAG - event,Events and Building Schedule,Open Studio
END:VEVENT
BEGIN:VEVENT
DTSTART;TZID=America/Phoenix:20270113T130000
DTEND;TZID=America/Phoenix:20270113T160000
DTSTAMP:20260421T225618
CREATED:20210818T231424Z
LAST-MODIFIED:20250803T033308Z
UID:10003280-1799845200-1799856000@arizonaartistsguild.net
SUMMARY:AAG Open Studio
DESCRIPTION:Afternoon
URL:https://arizonaartistsguild.net/events/aag-open-studio-2022-01-12/2027-01-13/
LOCATION:Arizona Artists Guild\, 18411 N. 7th Avenue\, Phoenix\, AZ\, 85023\, United States
CATEGORIES:AAG - event,Events and Building Schedule,Open Studio
END:VEVENT
BEGIN:VEVENT
DTSTART;TZID=America/Phoenix:20270118T080000
DTEND;TZID=America/Phoenix:20270118T120000
DTSTAMP:20260421T225618
CREATED:20210818T231424Z
LAST-MODIFIED:20240315T145428Z
UID:10003823-1800259200-1800273600@arizonaartistsguild.net
SUMMARY:AAG OPEN STUDIO
DESCRIPTION:Morning session
URL:https://arizonaartistsguild.net/events/aag-open-studio/2027-01-18/
LOCATION:Arizona Artists Guild\, 18411 N. 7th Avenue\, Phoenix\, AZ\, 85023\, United States
CATEGORIES:AAG - event,Events and Building Schedule,Open Studio
END:VEVENT
BEGIN:VEVENT
DTSTART;TZID=America/Phoenix:20270119T153000
DTEND;TZID=America/Phoenix:20270119T163000
DTSTAMP:20260421T225618
CREATED:20240210T022854Z
LAST-MODIFIED:20250105T215952Z
UID:10005865-1800372600-1800376200@arizonaartistsguild.net
SUMMARY:New AAG Member Orientation
DESCRIPTION:
URL:https://arizonaartistsguild.net/events/new-aag-member-orientation-3/2027-01-19/
LOCATION:Arizona Artists Guild\, 18411 N. 7th Avenue\, Phoenix\, AZ\, 85023\, United States
CATEGORIES:AAG - event
END:VEVENT
BEGIN:VEVENT
DTSTART;TZID=America/Phoenix:20270120T130000
DTEND;TZID=America/Phoenix:20270120T160000
DTSTAMP:20260421T225618
CREATED:20210818T231424Z
LAST-MODIFIED:20250803T033308Z
UID:10003281-1800450000-1800460800@arizonaartistsguild.net
SUMMARY:AAG Open Studio
DESCRIPTION:Afternoon
URL:https://arizonaartistsguild.net/events/aag-open-studio-2022-01-12/2027-01-20/
LOCATION:Arizona Artists Guild\, 18411 N. 7th Avenue\, Phoenix\, AZ\, 85023\, United States
CATEGORIES:AAG - event,Events and Building Schedule,Open Studio
END:VEVENT
BEGIN:VEVENT
DTSTART;TZID=America/Phoenix:20270125T080000
DTEND;TZID=America/Phoenix:20270125T120000
DTSTAMP:20260421T225618
CREATED:20210818T231424Z
LAST-MODIFIED:20240315T145428Z
UID:10003824-1800864000-1800878400@arizonaartistsguild.net
SUMMARY:AAG OPEN STUDIO
DESCRIPTION:Morning session
URL:https://arizonaartistsguild.net/events/aag-open-studio/2027-01-25/
LOCATION:Arizona Artists Guild\, 18411 N. 7th Avenue\, Phoenix\, AZ\, 85023\, United States
CATEGORIES:AAG - event,Events and Building Schedule,Open Studio
END:VEVENT
BEGIN:VEVENT
DTSTART;TZID=America/Phoenix:20270127T130000
DTEND;TZID=America/Phoenix:20270127T160000
DTSTAMP:20260421T225618
CREATED:20210818T231424Z
LAST-MODIFIED:20250803T033308Z
UID:10003282-1801054800-1801065600@arizonaartistsguild.net
SUMMARY:AAG Open Studio
DESCRIPTION:Afternoon
URL:https://arizonaartistsguild.net/events/aag-open-studio-2022-01-12/2027-01-27/
LOCATION:Arizona Artists Guild\, 18411 N. 7th Avenue\, Phoenix\, AZ\, 85023\, United States
CATEGORIES:AAG - event,Events and Building Schedule,Open Studio
END:VEVENT
END:VCALENDAR