BEGIN:VCALENDAR
VERSION:2.0
PRODID:-//Arizona Artists Guild - ECPv6.15.20//NONSGML v1.0//EN
CALSCALE:GREGORIAN
METHOD:PUBLISH
X-WR-CALNAME:Arizona Artists Guild
X-ORIGINAL-URL:https://arizonaartistsguild.net
X-WR-CALDESC:Events for Arizona Artists Guild
REFRESH-INTERVAL;VALUE=DURATION:PT1H
X-Robots-Tag:noindex
X-PUBLISHED-TTL:PT1H
BEGIN:VTIMEZONE
TZID:America/Phoenix
BEGIN:STANDARD
TZOFFSETFROM:-0700
TZOFFSETTO:-0700
TZNAME:MST
DTSTART:20250101T000000
END:STANDARD
END:VTIMEZONE
BEGIN:VEVENT
DTSTART;TZID=America/Phoenix:20260105T080000
DTEND;TZID=America/Phoenix:20260105T120000
DTSTAMP:20260421T132041
CREATED:20210818T231424Z
LAST-MODIFIED:20240315T145428Z
UID:10003769-1767600000-1767614400@arizonaartistsguild.net
SUMMARY:AAG OPEN STUDIO
DESCRIPTION:Morning session
URL:https://arizonaartistsguild.net/events/aag-open-studio/2026-01-05/
LOCATION:Arizona Artists Guild\, 18411 N. 7th Avenue\, Phoenix\, AZ\, 85023\, United States
CATEGORIES:AAG - event,Events and Building Schedule,Open Studio
END:VEVENT
BEGIN:VEVENT
DTSTART;TZID=America/Phoenix:20260105T140000
DTEND;TZID=America/Phoenix:20260105T160000
DTSTAMP:20260421T132041
CREATED:20240209T015313Z
LAST-MODIFIED:20240209T015642Z
UID:10004161-1767621600-1767628800@arizonaartistsguild.net
SUMMARY:Monday Critique Group
DESCRIPTION:
URL:https://arizonaartistsguild.net/events/monday-critique-group/2026-01-05/
LOCATION:Arizona Artists Guild\, 18411 N. 7th Avenue\, Phoenix\, AZ\, 85023\, United States
CATEGORIES:AAG - event
END:VEVENT
BEGIN:VEVENT
DTSTART;TZID=America/Phoenix:20260107T130000
DTEND;TZID=America/Phoenix:20260107T160000
DTSTAMP:20260421T132041
CREATED:20210818T231424Z
LAST-MODIFIED:20250803T033308Z
UID:10003227-1767790800-1767801600@arizonaartistsguild.net
SUMMARY:AAG Open Studio
DESCRIPTION:Afternoon
URL:https://arizonaartistsguild.net/events/aag-open-studio-2022-01-12/2026-01-07/
LOCATION:Arizona Artists Guild\, 18411 N. 7th Avenue\, Phoenix\, AZ\, 85023\, United States
CATEGORIES:AAG - event,Events and Building Schedule,Open Studio
END:VEVENT
BEGIN:VEVENT
DTSTART;TZID=America/Phoenix:20260112T080000
DTEND;TZID=America/Phoenix:20260112T120000
DTSTAMP:20260421T132041
CREATED:20210818T231424Z
LAST-MODIFIED:20240315T145428Z
UID:10003770-1768204800-1768219200@arizonaartistsguild.net
SUMMARY:AAG OPEN STUDIO
DESCRIPTION:Morning session
URL:https://arizonaartistsguild.net/events/aag-open-studio/2026-01-12/
LOCATION:Arizona Artists Guild\, 18411 N. 7th Avenue\, Phoenix\, AZ\, 85023\, United States
CATEGORIES:AAG - event,Events and Building Schedule,Open Studio
END:VEVENT
BEGIN:VEVENT
DTSTART;TZID=America/Phoenix:20260114T130000
DTEND;TZID=America/Phoenix:20260114T160000
DTSTAMP:20260421T132041
CREATED:20210818T231424Z
LAST-MODIFIED:20250803T033308Z
UID:10003228-1768395600-1768406400@arizonaartistsguild.net
SUMMARY:AAG Open Studio
DESCRIPTION:Afternoon
URL:https://arizonaartistsguild.net/events/aag-open-studio-2022-01-12/2026-01-14/
LOCATION:Arizona Artists Guild\, 18411 N. 7th Avenue\, Phoenix\, AZ\, 85023\, United States
CATEGORIES:AAG - event,Events and Building Schedule,Open Studio
END:VEVENT
BEGIN:VEVENT
DTSTART;TZID=America/Phoenix:20260119T080000
DTEND;TZID=America/Phoenix:20260119T120000
DTSTAMP:20260421T132041
CREATED:20210818T231424Z
LAST-MODIFIED:20240315T145428Z
UID:10003771-1768809600-1768824000@arizonaartistsguild.net
SUMMARY:AAG OPEN STUDIO
DESCRIPTION:Morning session
URL:https://arizonaartistsguild.net/events/aag-open-studio/2026-01-19/
LOCATION:Arizona Artists Guild\, 18411 N. 7th Avenue\, Phoenix\, AZ\, 85023\, United States
CATEGORIES:AAG - event,Events and Building Schedule,Open Studio
END:VEVENT
BEGIN:VEVENT
DTSTART;TZID=America/Phoenix:20260120T153000
DTEND;TZID=America/Phoenix:20260120T163000
DTSTAMP:20260421T132041
CREATED:20240210T022854Z
LAST-MODIFIED:20250105T215952Z
UID:10005853-1768923000-1768926600@arizonaartistsguild.net
SUMMARY:New AAG Member Orientation
DESCRIPTION:
URL:https://arizonaartistsguild.net/events/new-aag-member-orientation-3/2026-01-20/
LOCATION:Arizona Artists Guild\, 18411 N. 7th Avenue\, Phoenix\, AZ\, 85023\, United States
CATEGORIES:AAG - event
END:VEVENT
BEGIN:VEVENT
DTSTART;TZID=America/Phoenix:20260121T130000
DTEND;TZID=America/Phoenix:20260121T160000
DTSTAMP:20260421T132041
CREATED:20210818T231424Z
LAST-MODIFIED:20250803T033308Z
UID:10003229-1769000400-1769011200@arizonaartistsguild.net
SUMMARY:AAG Open Studio
DESCRIPTION:Afternoon
URL:https://arizonaartistsguild.net/events/aag-open-studio-2022-01-12/2026-01-21/
LOCATION:Arizona Artists Guild\, 18411 N. 7th Avenue\, Phoenix\, AZ\, 85023\, United States
CATEGORIES:AAG - event,Events and Building Schedule,Open Studio
END:VEVENT
BEGIN:VEVENT
DTSTART;TZID=America/Phoenix:20260126T080000
DTEND;TZID=America/Phoenix:20260126T120000
DTSTAMP:20260421T132041
CREATED:20210818T231424Z
LAST-MODIFIED:20240315T145428Z
UID:10003772-1769414400-1769428800@arizonaartistsguild.net
SUMMARY:AAG OPEN STUDIO
DESCRIPTION:Morning session
URL:https://arizonaartistsguild.net/events/aag-open-studio/2026-01-26/
LOCATION:Arizona Artists Guild\, 18411 N. 7th Avenue\, Phoenix\, AZ\, 85023\, United States
CATEGORIES:AAG - event,Events and Building Schedule,Open Studio
END:VEVENT
BEGIN:VEVENT
DTSTART;TZID=America/Phoenix:20260128T130000
DTEND;TZID=America/Phoenix:20260128T160000
DTSTAMP:20260421T132041
CREATED:20210818T231424Z
LAST-MODIFIED:20250803T033308Z
UID:10003230-1769605200-1769616000@arizonaartistsguild.net
SUMMARY:AAG Open Studio
DESCRIPTION:Afternoon
URL:https://arizonaartistsguild.net/events/aag-open-studio-2022-01-12/2026-01-28/
LOCATION:Arizona Artists Guild\, 18411 N. 7th Avenue\, Phoenix\, AZ\, 85023\, United States
CATEGORIES:AAG - event,Events and Building Schedule,Open Studio
END:VEVENT
END:VCALENDAR