BEGIN:VCALENDAR
VERSION:2.0
PRODID:-//Arizona Artists Guild - ECPv6.15.20//NONSGML v1.0//EN
CALSCALE:GREGORIAN
METHOD:PUBLISH
X-WR-CALNAME:Arizona Artists Guild
X-ORIGINAL-URL:https://arizonaartistsguild.net
X-WR-CALDESC:Events for Arizona Artists Guild
REFRESH-INTERVAL;VALUE=DURATION:PT1H
X-Robots-Tag:noindex
X-PUBLISHED-TTL:PT1H
BEGIN:VTIMEZONE
TZID:America/Phoenix
BEGIN:STANDARD
TZOFFSETFROM:-0700
TZOFFSETTO:-0700
TZNAME:MST
DTSTART:20240101T000000
END:STANDARD
END:VTIMEZONE
BEGIN:VEVENT
DTSTART;TZID=America/Phoenix:20251201T080000
DTEND;TZID=America/Phoenix:20251201T120000
DTSTAMP:20260421T164251
CREATED:20210818T231424Z
LAST-MODIFIED:20240315T145428Z
UID:10003764-1764576000-1764590400@arizonaartistsguild.net
SUMMARY:AAG OPEN STUDIO
DESCRIPTION:Morning session
URL:https://arizonaartistsguild.net/events/aag-open-studio/2025-12-01/
LOCATION:Arizona Artists Guild\, 18411 N. 7th Avenue\, Phoenix\, AZ\, 85023\, United States
CATEGORIES:AAG - event,Events and Building Schedule,Open Studio
END:VEVENT
BEGIN:VEVENT
DTSTART;TZID=America/Phoenix:20251201T140000
DTEND;TZID=America/Phoenix:20251201T160000
DTSTAMP:20260421T164251
CREATED:20240209T015313Z
LAST-MODIFIED:20240209T015642Z
UID:10004160-1764597600-1764604800@arizonaartistsguild.net
SUMMARY:Monday Critique Group
DESCRIPTION:
URL:https://arizonaartistsguild.net/events/monday-critique-group/2025-12-01/
LOCATION:Arizona Artists Guild\, 18411 N. 7th Avenue\, Phoenix\, AZ\, 85023\, United States
CATEGORIES:AAG - event
END:VEVENT
BEGIN:VEVENT
DTSTART;TZID=America/Phoenix:20251203T130000
DTEND;TZID=America/Phoenix:20251203T160000
DTSTAMP:20260421T164251
CREATED:20210818T231424Z
LAST-MODIFIED:20250803T033308Z
UID:10003222-1764766800-1764777600@arizonaartistsguild.net
SUMMARY:AAG Open Studio
DESCRIPTION:Afternoon
URL:https://arizonaartistsguild.net/events/aag-open-studio-2022-01-12/2025-12-03/
LOCATION:Arizona Artists Guild\, 18411 N. 7th Avenue\, Phoenix\, AZ\, 85023\, United States
CATEGORIES:AAG - event,Events and Building Schedule,Open Studio
END:VEVENT
BEGIN:VEVENT
DTSTART;TZID=America/Phoenix:20251208T080000
DTEND;TZID=America/Phoenix:20251208T120000
DTSTAMP:20260421T164251
CREATED:20210818T231424Z
LAST-MODIFIED:20240315T145428Z
UID:10003765-1765180800-1765195200@arizonaartistsguild.net
SUMMARY:AAG OPEN STUDIO
DESCRIPTION:Morning session
URL:https://arizonaartistsguild.net/events/aag-open-studio/2025-12-08/
LOCATION:Arizona Artists Guild\, 18411 N. 7th Avenue\, Phoenix\, AZ\, 85023\, United States
CATEGORIES:AAG - event,Events and Building Schedule,Open Studio
END:VEVENT
BEGIN:VEVENT
DTSTART;TZID=America/Phoenix:20251210T130000
DTEND;TZID=America/Phoenix:20251210T160000
DTSTAMP:20260421T164251
CREATED:20210818T231424Z
LAST-MODIFIED:20250803T033308Z
UID:10003223-1765371600-1765382400@arizonaartistsguild.net
SUMMARY:AAG Open Studio
DESCRIPTION:Afternoon
URL:https://arizonaartistsguild.net/events/aag-open-studio-2022-01-12/2025-12-10/
LOCATION:Arizona Artists Guild\, 18411 N. 7th Avenue\, Phoenix\, AZ\, 85023\, United States
CATEGORIES:AAG - event,Events and Building Schedule,Open Studio
END:VEVENT
BEGIN:VEVENT
DTSTART;TZID=America/Phoenix:20251213T170000
DTEND;TZID=America/Phoenix:20251213T200000
DTSTAMP:20260421T164251
CREATED:20250423T232642Z
LAST-MODIFIED:20250423T232642Z
UID:10006212-1765645200-1765656000@arizonaartistsguild.net
SUMMARY:Holiday Party
DESCRIPTION:
URL:https://arizonaartistsguild.net/events/holiday-party/
LOCATION:Arizona Artists Guild\, 18411 N. 7th Avenue\, Phoenix\, AZ\, 85023\, United States
CATEGORIES:AAG - event
END:VEVENT
BEGIN:VEVENT
DTSTART;TZID=America/Phoenix:20251215T080000
DTEND;TZID=America/Phoenix:20251215T120000
DTSTAMP:20260421T164251
CREATED:20210818T231424Z
LAST-MODIFIED:20240315T145428Z
UID:10003766-1765785600-1765800000@arizonaartistsguild.net
SUMMARY:AAG OPEN STUDIO
DESCRIPTION:Morning session
URL:https://arizonaartistsguild.net/events/aag-open-studio/2025-12-15/
LOCATION:Arizona Artists Guild\, 18411 N. 7th Avenue\, Phoenix\, AZ\, 85023\, United States
CATEGORIES:AAG - event,Events and Building Schedule,Open Studio
END:VEVENT
BEGIN:VEVENT
DTSTART;TZID=America/Phoenix:20251216T153000
DTEND;TZID=America/Phoenix:20251216T163000
DTSTAMP:20260421T164251
CREATED:20240210T022854Z
LAST-MODIFIED:20250105T215952Z
UID:10005852-1765899000-1765902600@arizonaartistsguild.net
SUMMARY:New AAG Member Orientation
DESCRIPTION:
URL:https://arizonaartistsguild.net/events/new-aag-member-orientation-3/2025-12-16/
LOCATION:Arizona Artists Guild\, 18411 N. 7th Avenue\, Phoenix\, AZ\, 85023\, United States
CATEGORIES:AAG - event
END:VEVENT
BEGIN:VEVENT
DTSTART;TZID=America/Phoenix:20251217T130000
DTEND;TZID=America/Phoenix:20251217T160000
DTSTAMP:20260421T164251
CREATED:20210818T231424Z
LAST-MODIFIED:20250803T033308Z
UID:10003224-1765976400-1765987200@arizonaartistsguild.net
SUMMARY:AAG Open Studio
DESCRIPTION:Afternoon
URL:https://arizonaartistsguild.net/events/aag-open-studio-2022-01-12/2025-12-17/
LOCATION:Arizona Artists Guild\, 18411 N. 7th Avenue\, Phoenix\, AZ\, 85023\, United States
CATEGORIES:AAG - event,Events and Building Schedule,Open Studio
END:VEVENT
BEGIN:VEVENT
DTSTART;TZID=America/Phoenix:20251222T080000
DTEND;TZID=America/Phoenix:20251222T120000
DTSTAMP:20260421T164251
CREATED:20210818T231424Z
LAST-MODIFIED:20240315T145428Z
UID:10003767-1766390400-1766404800@arizonaartistsguild.net
SUMMARY:AAG OPEN STUDIO
DESCRIPTION:Morning session
URL:https://arizonaartistsguild.net/events/aag-open-studio/2025-12-22/
LOCATION:Arizona Artists Guild\, 18411 N. 7th Avenue\, Phoenix\, AZ\, 85023\, United States
CATEGORIES:AAG - event,Events and Building Schedule,Open Studio
END:VEVENT
BEGIN:VEVENT
DTSTART;TZID=America/Phoenix:20251224T130000
DTEND;TZID=America/Phoenix:20251224T160000
DTSTAMP:20260421T164251
CREATED:20210818T231424Z
LAST-MODIFIED:20250803T033308Z
UID:10003225-1766581200-1766592000@arizonaartistsguild.net
SUMMARY:AAG Open Studio
DESCRIPTION:Afternoon
URL:https://arizonaartistsguild.net/events/aag-open-studio-2022-01-12/2025-12-24/
LOCATION:Arizona Artists Guild\, 18411 N. 7th Avenue\, Phoenix\, AZ\, 85023\, United States
CATEGORIES:AAG - event,Events and Building Schedule,Open Studio
END:VEVENT
BEGIN:VEVENT
DTSTART;TZID=America/Phoenix:20251229T080000
DTEND;TZID=America/Phoenix:20251229T120000
DTSTAMP:20260421T164251
CREATED:20210818T231424Z
LAST-MODIFIED:20240315T145428Z
UID:10003768-1766995200-1767009600@arizonaartistsguild.net
SUMMARY:AAG OPEN STUDIO
DESCRIPTION:Morning session
URL:https://arizonaartistsguild.net/events/aag-open-studio/2025-12-29/
LOCATION:Arizona Artists Guild\, 18411 N. 7th Avenue\, Phoenix\, AZ\, 85023\, United States
CATEGORIES:AAG - event,Events and Building Schedule,Open Studio
END:VEVENT
END:VCALENDAR