BEGIN:VCALENDAR
VERSION:2.0
PRODID:-//Arizona Artists Guild - ECPv6.15.20//NONSGML v1.0//EN
CALSCALE:GREGORIAN
METHOD:PUBLISH
X-WR-CALNAME:Arizona Artists Guild
X-ORIGINAL-URL:https://arizonaartistsguild.net
X-WR-CALDESC:Events for Arizona Artists Guild
REFRESH-INTERVAL;VALUE=DURATION:PT1H
X-Robots-Tag:noindex
X-PUBLISHED-TTL:PT1H
BEGIN:VTIMEZONE
TZID:America/Phoenix
BEGIN:STANDARD
TZOFFSETFROM:-0700
TZOFFSETTO:-0700
TZNAME:MST
DTSTART:20240101T000000
END:STANDARD
END:VTIMEZONE
BEGIN:VEVENT
DTSTART;VALUE=DATE:20250922
DTEND;VALUE=DATE:20251024
DTSTAMP:20260423T085410
CREATED:20250113T235025Z
LAST-MODIFIED:20250113T235025Z
UID:10005988-1758499200-1761263999@arizonaartistsguild.net
SUMMARY:Critique Group Exhibit
DESCRIPTION:
URL:https://arizonaartistsguild.net/events/critique-group-exhibit/
LOCATION:Arizona Artists Guild\, 18411 N. 7th Avenue\, Phoenix\, AZ\, 85023\, United States
END:VEVENT
BEGIN:VEVENT
DTSTART;TZID=America/Phoenix:20251016T090000
DTEND;TZID=America/Phoenix:20251016T120000
DTSTAMP:20260423T085410
CREATED:20250613T002834Z
LAST-MODIFIED:20250706T234533Z
UID:10017548-1760605200-1760616000@arizonaartistsguild.net
SUMMARY:Watercolor with John Erwin
DESCRIPTION:
URL:https://arizonaartistsguild.net/events/watercolor-with-john-erwin-3/2025-10-16/
LOCATION:Arizona Artists Guild\, 18411 N. 7th Avenue\, Phoenix\, AZ\, 85023\, United States
CATEGORIES:AAG Workshops
END:VEVENT
BEGIN:VEVENT
DTSTART;TZID=America/Phoenix:20251016T183000
DTEND;TZID=America/Phoenix:20251016T213000
DTSTAMP:20260423T085410
CREATED:20250613T001137Z
LAST-MODIFIED:20250613T001431Z
UID:10017301-1760639400-1760650200@arizonaartistsguild.net
SUMMARY:AAG Life Drawing Thursday Evening
DESCRIPTION:
URL:https://arizonaartistsguild.net/events/life-drawing-thursday-evening/2025-10-16/
LOCATION:Arizona Artists Guild\, 18411 N. 7th Avenue\, Phoenix\, AZ\, 85023\, United States
CATEGORIES:AAG - Life Drawing
END:VEVENT
END:VCALENDAR