BEGIN:VCALENDAR
VERSION:2.0
PRODID:-//Arizona Artists Guild - ECPv6.15.20//NONSGML v1.0//EN
CALSCALE:GREGORIAN
METHOD:PUBLISH
X-ORIGINAL-URL:https://arizonaartistsguild.net
X-WR-CALDESC:Events for Arizona Artists Guild
REFRESH-INTERVAL;VALUE=DURATION:PT1H
X-Robots-Tag:noindex
X-PUBLISHED-TTL:PT1H
BEGIN:VTIMEZONE
TZID:America/Phoenix
BEGIN:STANDARD
TZOFFSETFROM:-0700
TZOFFSETTO:-0700
TZNAME:MST
DTSTART:20240101T000000
END:STANDARD
END:VTIMEZONE
BEGIN:VEVENT
DTSTART;VALUE=DATE:20250910
DTEND;VALUE=DATE:20251011
DTSTAMP:20260423T090041
CREATED:20241025T222001Z
LAST-MODIFIED:20251012T004726Z
UID:10005396-1757462400-1760140799@arizonaartistsguild.net
SUMMARY:AAG Winter Exhibition entry period\, closes at 6 PM on October 1st
DESCRIPTION:
URL:https://arizonaartistsguild.net/events/aag-winter-exhibition-entry-period-closes-6-pm/
LOCATION:Arizona Artists Guild\, 18411 N. 7th Avenue\, Phoenix\, AZ\, 85023\, United States
END:VEVENT
BEGIN:VEVENT
DTSTART;VALUE=DATE:20250922
DTEND;VALUE=DATE:20251024
DTSTAMP:20260423T090041
CREATED:20250113T235025Z
LAST-MODIFIED:20250113T235025Z
UID:10005988-1758499200-1761263999@arizonaartistsguild.net
SUMMARY:Critique Group Exhibit
DESCRIPTION:
URL:https://arizonaartistsguild.net/events/critique-group-exhibit/
LOCATION:Arizona Artists Guild\, 18411 N. 7th Avenue\, Phoenix\, AZ\, 85023\, United States
END:VEVENT
BEGIN:VEVENT
DTSTART;TZID=America/Phoenix:20251006T080000
DTEND;TZID=America/Phoenix:20251006T120000
DTSTAMP:20260423T090041
CREATED:20210818T231424Z
LAST-MODIFIED:20240315T145428Z
UID:10003756-1759737600-1759752000@arizonaartistsguild.net
SUMMARY:AAG OPEN STUDIO
DESCRIPTION:Morning session
URL:https://arizonaartistsguild.net/events/aag-open-studio/2025-10-06/
LOCATION:Arizona Artists Guild\, 18411 N. 7th Avenue\, Phoenix\, AZ\, 85023\, United States
CATEGORIES:AAG - event,Events and Building Schedule,Open Studio
END:VEVENT
BEGIN:VEVENT
DTSTART;TZID=America/Phoenix:20251006T140000
DTEND;TZID=America/Phoenix:20251006T160000
DTSTAMP:20260423T090041
CREATED:20240209T015313Z
LAST-MODIFIED:20240209T015642Z
UID:10004158-1759759200-1759766400@arizonaartistsguild.net
SUMMARY:Monday Critique Group
DESCRIPTION:
URL:https://arizonaartistsguild.net/events/monday-critique-group/2025-10-06/
LOCATION:Arizona Artists Guild\, 18411 N. 7th Avenue\, Phoenix\, AZ\, 85023\, United States
CATEGORIES:AAG - event
END:VEVENT
END:VCALENDAR