BEGIN:VCALENDAR
VERSION:2.0
PRODID:-//Arizona Artists Guild - ECPv6.15.20//NONSGML v1.0//EN
CALSCALE:GREGORIAN
METHOD:PUBLISH
X-ORIGINAL-URL:https://arizonaartistsguild.net
X-WR-CALDESC:Events for Arizona Artists Guild
REFRESH-INTERVAL;VALUE=DURATION:PT1H
X-Robots-Tag:noindex
X-PUBLISHED-TTL:PT1H
BEGIN:VTIMEZONE
TZID:America/Phoenix
BEGIN:STANDARD
TZOFFSETFROM:-0700
TZOFFSETTO:-0700
TZNAME:MST
DTSTART:20240101T000000
END:STANDARD
END:VTIMEZONE
BEGIN:VEVENT
DTSTART;VALUE=DATE:20250728
DTEND;VALUE=DATE:20250919
DTSTAMP:20260423T071222
CREATED:20240827T223455Z
LAST-MODIFIED:20250611T002106Z
UID:10005049-1753660800-1758239999@arizonaartistsguild.net
SUMMARY:AAG Photography Group Exhibition
DESCRIPTION:
URL:https://arizonaartistsguild.net/events/aag-photography-group-exhibition/
LOCATION:Arizona Artists Guild\, 18411 N. 7th Avenue\, Phoenix\, AZ\, 85023\, United States
CATEGORIES:exhibitions
END:VEVENT
BEGIN:VEVENT
DTSTART;VALUE=DATE:20250910
DTEND;VALUE=DATE:20251011
DTSTAMP:20260423T071222
CREATED:20241025T222001Z
LAST-MODIFIED:20251012T004726Z
UID:10005396-1757462400-1760140799@arizonaartistsguild.net
SUMMARY:AAG Winter Exhibition entry period\, closes at 6 PM on October 1st
DESCRIPTION:
URL:https://arizonaartistsguild.net/events/aag-winter-exhibition-entry-period-closes-6-pm/
LOCATION:Arizona Artists Guild\, 18411 N. 7th Avenue\, Phoenix\, AZ\, 85023\, United States
END:VEVENT
BEGIN:VEVENT
DTSTART;TZID=America/Phoenix:20250911T140000
DTEND;TZID=America/Phoenix:20250911T150000
DTSTAMP:20260423T071222
CREATED:20240712T232545Z
LAST-MODIFIED:20240712T232545Z
UID:10004683-1757599200-1757602800@arizonaartistsguild.net
SUMMARY:AWA Board Meeting
DESCRIPTION:
URL:https://arizonaartistsguild.net/events/awa-board-meeting-9/2025-09-11/
LOCATION:Arizona Artists Guild\, 18411 N. 7th Avenue\, Phoenix\, AZ\, 85023\, United States
CATEGORIES:AWA Board Meeting
END:VEVENT
BEGIN:VEVENT
DTSTART;TZID=America/Phoenix:20250911T153000
DTEND;TZID=America/Phoenix:20250911T180000
DTSTAMP:20260423T071222
CREATED:20240712T233223Z
LAST-MODIFIED:20240805T203203Z
UID:10004689-1757604600-1757613600@arizonaartistsguild.net
SUMMARY:AWA Annual Meeting & Program
DESCRIPTION:
URL:https://arizonaartistsguild.net/events/awa-meeting-program-8/2025-09-11/
LOCATION:Arizona Artists Guild\, 18411 N. 7th Avenue\, Phoenix\, AZ\, 85023\, United States
CATEGORIES:AWA Meeting & Program
END:VEVENT
BEGIN:VEVENT
DTSTART;TZID=America/Phoenix:20250911T183000
DTEND;TZID=America/Phoenix:20250911T213000
DTSTAMP:20260423T071222
CREATED:20250613T001137Z
LAST-MODIFIED:20250613T001431Z
UID:10017296-1757615400-1757626200@arizonaartistsguild.net
SUMMARY:AAG Life Drawing Thursday Evening
DESCRIPTION:
URL:https://arizonaartistsguild.net/events/life-drawing-thursday-evening/2025-09-11/
LOCATION:Arizona Artists Guild\, 18411 N. 7th Avenue\, Phoenix\, AZ\, 85023\, United States
CATEGORIES:AAG - Life Drawing
END:VEVENT
END:VCALENDAR