BEGIN:VCALENDAR
VERSION:2.0
PRODID:-//Arizona Artists Guild - ECPv6.15.20//NONSGML v1.0//EN
CALSCALE:GREGORIAN
METHOD:PUBLISH
X-ORIGINAL-URL:https://arizonaartistsguild.net
X-WR-CALDESC:Events for Arizona Artists Guild
REFRESH-INTERVAL;VALUE=DURATION:PT1H
X-Robots-Tag:noindex
X-PUBLISHED-TTL:PT1H
BEGIN:VTIMEZONE
TZID:America/Phoenix
BEGIN:STANDARD
TZOFFSETFROM:-0700
TZOFFSETTO:-0700
TZNAME:MST
DTSTART:20240101T000000
END:STANDARD
END:VTIMEZONE
BEGIN:VEVENT
DTSTART;VALUE=DATE:20250728
DTEND;VALUE=DATE:20250919
DTSTAMP:20260423T071221
CREATED:20240827T223455Z
LAST-MODIFIED:20250611T002106Z
UID:10005049-1753660800-1758239999@arizonaartistsguild.net
SUMMARY:AAG Photography Group Exhibition
DESCRIPTION:
URL:https://arizonaartistsguild.net/events/aag-photography-group-exhibition/
LOCATION:Arizona Artists Guild\, 18411 N. 7th Avenue\, Phoenix\, AZ\, 85023\, United States
CATEGORIES:exhibitions
END:VEVENT
BEGIN:VEVENT
DTSTART;TZID=America/Phoenix:20250909T093000
DTEND;TZID=America/Phoenix:20250909T123000
DTSTAMP:20260423T071221
CREATED:20250519T232909Z
LAST-MODIFIED:20250519T232909Z
UID:10016974-1757410200-1757421000@arizonaartistsguild.net
SUMMARY:AAG | Life Drawing | Tuesday Mornings
DESCRIPTION:AAG Life Drawing Open sessions:\n$10 for Members\n$15 for Non-Members\nNo Instruction\nEasels\, tables provided or you may bring your own. \nBring your own art supplies. \nQuestions? Contact Tom Mura (602) 622-7986. \nCheck the Model Schedule for specifics.
URL:https://arizonaartistsguild.net/events/aag-life-drawing-tuesday-mornings/2025-09-09/
LOCATION:Arizona Artists Guild\, 18411 N. 7th Avenue\, Phoenix\, AZ\, 85023\, United States
CATEGORIES:AAG - Life Drawing
END:VEVENT
BEGIN:VEVENT
DTSTART;TZID=America/Phoenix:20250909T180000
DTEND;TZID=America/Phoenix:20250909T200000
DTSTAMP:20260423T071221
CREATED:20250105T220232Z
LAST-MODIFIED:20250105T220232Z
UID:10005909-1757440800-1757448000@arizonaartistsguild.net
SUMMARY:Creative Journey Art Class
DESCRIPTION:
URL:https://arizonaartistsguild.net/events/creative-journey-art-class/2025-09-09/
LOCATION:Arizona Artists Guild\, 18411 N. 7th Avenue\, Phoenix\, AZ\, 85023\, United States
CATEGORIES:AAG Survivors of Suicide Art Class
END:VEVENT
END:VCALENDAR