BEGIN:VCALENDAR
VERSION:2.0
PRODID:-//Arizona Artists Guild - ECPv6.15.20//NONSGML v1.0//EN
CALSCALE:GREGORIAN
METHOD:PUBLISH
X-ORIGINAL-URL:https://arizonaartistsguild.net
X-WR-CALDESC:Events for Arizona Artists Guild
REFRESH-INTERVAL;VALUE=DURATION:PT1H
X-Robots-Tag:noindex
X-PUBLISHED-TTL:PT1H
BEGIN:VTIMEZONE
TZID:America/Phoenix
BEGIN:STANDARD
TZOFFSETFROM:-0700
TZOFFSETTO:-0700
TZNAME:MST
DTSTART:20240101T000000
END:STANDARD
END:VTIMEZONE
BEGIN:VEVENT
DTSTART;VALUE=DATE:20250728
DTEND;VALUE=DATE:20250919
DTSTAMP:20260423T065804
CREATED:20240827T223455Z
LAST-MODIFIED:20250611T002106Z
UID:10005049-1753660800-1758239999@arizonaartistsguild.net
SUMMARY:AAG Photography Group Exhibition
DESCRIPTION:
URL:https://arizonaartistsguild.net/events/aag-photography-group-exhibition/
LOCATION:Arizona Artists Guild\, 18411 N. 7th Avenue\, Phoenix\, AZ\, 85023\, United States
CATEGORIES:exhibitions
END:VEVENT
BEGIN:VEVENT
DTSTART;VALUE=DATE:20250802
DTEND;VALUE=DATE:20250830
DTSTAMP:20260423T065804
CREATED:20250423T233844Z
LAST-MODIFIED:20250424T000504Z
UID:10006214-1754092800-1756511999@arizonaartistsguild.net
SUMMARY:Statewide Exhibition at WHAM Art Center
DESCRIPTION:WHAM Art Center \n16560 N Dysart Rd \nSurprise\, AZ 85378 \n623-584-8311 \nhttps://www.wham-art.org
URL:https://arizonaartistsguild.net/events/statewide-exhibition-at-wham/
LOCATION:Arizona Artists Guild\, 18411 N. 7th Avenue\, Phoenix\, AZ\, 85023\, United States
CATEGORIES:AAG Exhibition
END:VEVENT
BEGIN:VEVENT
DTSTART;TZID=America/Phoenix:20250806T130000
DTEND;TZID=America/Phoenix:20250806T160000
DTSTAMP:20260423T065804
CREATED:20210818T231424Z
LAST-MODIFIED:20250803T033308Z
UID:10003205-1754485200-1754496000@arizonaartistsguild.net
SUMMARY:AAG Open Studio
DESCRIPTION:Afternoon
URL:https://arizonaartistsguild.net/events/aag-open-studio-2022-01-12/2025-08-06/
LOCATION:Arizona Artists Guild\, 18411 N. 7th Avenue\, Phoenix\, AZ\, 85023\, United States
CATEGORIES:AAG - event,Events and Building Schedule,Open Studio
END:VEVENT
BEGIN:VEVENT
DTSTART;TZID=America/Phoenix:20250806T180000
DTEND;TZID=America/Phoenix:20250806T210000
DTSTAMP:20260423T065804
CREATED:20241110T235839Z
LAST-MODIFIED:20260216T001534Z
UID:10005722-1754503200-1754514000@arizonaartistsguild.net
SUMMARY:Critique Group #2 - 1st Wednesday
DESCRIPTION:
URL:https://arizonaartistsguild.net/events/wednesday-critique-group/2025-08-06/
LOCATION:Arizona Artists Guild\, 18411 N. 7th Avenue\, Phoenix\, AZ\, 85023\, United States
CATEGORIES:AAG Critique Group
END:VEVENT
END:VCALENDAR