BEGIN:VCALENDAR
VERSION:2.0
PRODID:-//Arizona Artists Guild - ECPv6.15.20//NONSGML v1.0//EN
CALSCALE:GREGORIAN
METHOD:PUBLISH
X-WR-CALNAME:Arizona Artists Guild
X-ORIGINAL-URL:https://arizonaartistsguild.net
X-WR-CALDESC:Events for Arizona Artists Guild
REFRESH-INTERVAL;VALUE=DURATION:PT1H
X-Robots-Tag:noindex
X-PUBLISHED-TTL:PT1H
BEGIN:VTIMEZONE
TZID:America/Phoenix
BEGIN:STANDARD
TZOFFSETFROM:-0700
TZOFFSETTO:-0700
TZNAME:MST
DTSTART:20240101T000000
END:STANDARD
END:VTIMEZONE
BEGIN:VEVENT
DTSTART;VALUE=DATE:20250520
DTEND;VALUE=DATE:20250619
DTSTAMP:20260423T010547
CREATED:20250423T233546Z
LAST-MODIFIED:20250423T233546Z
UID:10006213-1747699200-1750291199@arizonaartistsguild.net
SUMMARY:Statewide Exhibition entry period\, ends June 18th at 6 PM
DESCRIPTION:
URL:https://arizonaartistsguild.net/events/statewide-exhibition-entry-period-ends-june-18th-at-6-pm/
LOCATION:Arizona Artists Guild\, 18411 N. 7th Avenue\, Phoenix\, AZ\, 85023\, United States
CATEGORIES:exhibitions
END:VEVENT
BEGIN:VEVENT
DTSTART;VALUE=DATE:20250525
DTEND;VALUE=DATE:20250726
DTSTAMP:20260423T010547
CREATED:20240827T221251Z
LAST-MODIFIED:20250424T004905Z
UID:10005046-1748131200-1753487999@arizonaartistsguild.net
SUMMARY:Veterans Exhibition
DESCRIPTION:
URL:https://arizonaartistsguild.net/events/veterans-exhibtion/
LOCATION:Arizona Artists Guild\, 18411 N. 7th Avenue\, Phoenix\, AZ\, 85023\, United States
CATEGORIES:exhibitions
END:VEVENT
BEGIN:VEVENT
DTSTART;TZID=America/Phoenix:20250601T083000
DTEND;TZID=America/Phoenix:20250601T110000
DTSTAMP:20260423T010547
CREATED:20241025T223811Z
LAST-MODIFIED:20241025T223811Z
UID:10005423-1748766600-1748775600@arizonaartistsguild.net
SUMMARY:AAG Cleaning Service
DESCRIPTION:
URL:https://arizonaartistsguild.net/events/aag-cleaning-service-5/2025-06-01/
LOCATION:Arizona Artists Guild\, 18411 N. 7th Avenue\, Phoenix\, AZ\, 85023\, United States
END:VEVENT
BEGIN:VEVENT
DTSTART;TZID=America/Phoenix:20250601T120000
DTEND;TZID=America/Phoenix:20250601T150000
DTSTAMP:20260423T010547
CREATED:20241124T172523Z
LAST-MODIFIED:20250425T212239Z
UID:10005786-1748779200-1748790000@arizonaartistsguild.net
SUMMARY:Assemblage Shrines with Cynthia Dunn-Selph
DESCRIPTION:
URL:https://arizonaartistsguild.net/events/assemblage-shrines-with-cynthia-dunn-selph/
LOCATION:Arizona Artists Guild\, 18411 N. 7th Avenue\, Phoenix\, AZ\, 85023\, United States
CATEGORIES:AAG Workshops
END:VEVENT
END:VCALENDAR