BEGIN:VCALENDAR
VERSION:2.0
PRODID:-//Arizona Artists Guild - ECPv6.15.20//NONSGML v1.0//EN
CALSCALE:GREGORIAN
METHOD:PUBLISH
X-ORIGINAL-URL:https://arizonaartistsguild.net
X-WR-CALDESC:Events for Arizona Artists Guild
REFRESH-INTERVAL;VALUE=DURATION:PT1H
X-Robots-Tag:noindex
X-PUBLISHED-TTL:PT1H
BEGIN:VTIMEZONE
TZID:America/Phoenix
BEGIN:STANDARD
TZOFFSETFROM:-0700
TZOFFSETTO:-0700
TZNAME:MST
DTSTART:20240101T000000
END:STANDARD
END:VTIMEZONE
BEGIN:VEVENT
DTSTART;VALUE=DATE:20250520
DTEND;VALUE=DATE:20250619
DTSTAMP:20260423T010541
CREATED:20250423T233546Z
LAST-MODIFIED:20250423T233546Z
UID:10006213-1747699200-1750291199@arizonaartistsguild.net
SUMMARY:Statewide Exhibition entry period\, ends June 18th at 6 PM
DESCRIPTION:
URL:https://arizonaartistsguild.net/events/statewide-exhibition-entry-period-ends-june-18th-at-6-pm/
LOCATION:Arizona Artists Guild\, 18411 N. 7th Avenue\, Phoenix\, AZ\, 85023\, United States
CATEGORIES:exhibitions
END:VEVENT
BEGIN:VEVENT
DTSTART;TZID=America/Phoenix:20250524T100000
DTEND;TZID=America/Phoenix:20250524T140000
DTSTAMP:20260423T010541
CREATED:20250113T231647Z
LAST-MODIFIED:20250226T173210Z
UID:10004071-1748080800-1748095200@arizonaartistsguild.net
SUMMARY:AAG Community Outreach Art Classes & exhibit artwork drop off
DESCRIPTION:Veterans in person: 10 am – 2:00 pm \nCombined Veterans and Creative Journey: 2:00 -3:00 pm via zoom. Same link will be used throughout the year. \n 
URL:https://arizonaartistsguild.net/events/aag-veterans-art-class-2-3-3/
LOCATION:Arizona Artists Guild\, 18411 N. 7th Avenue\, Phoenix\, AZ\, 85023\, United States
CATEGORIES:AAG Veterans Art Class,Events and Building Schedule
END:VEVENT
BEGIN:VEVENT
DTSTART;TZID=America/Phoenix:20250524T150000
DTEND;TZID=America/Phoenix:20250524T180000
DTSTAMP:20260423T010541
CREATED:20250113T231857Z
LAST-MODIFIED:20250113T231857Z
UID:10005985-1748098800-1748109600@arizonaartistsguild.net
SUMMARY:Veterans exhibit installation
DESCRIPTION:
URL:https://arizonaartistsguild.net/events/veterans-exhibit-installation/
LOCATION:Arizona Artists Guild\, 18411 N. 7th Avenue\, Phoenix\, AZ\, 85023\, United States
END:VEVENT
END:VCALENDAR