BEGIN:VCALENDAR
VERSION:2.0
PRODID:-//Arizona Artists Guild - ECPv6.15.20//NONSGML v1.0//EN
CALSCALE:GREGORIAN
METHOD:PUBLISH
X-ORIGINAL-URL:https://arizonaartistsguild.net
X-WR-CALDESC:Events for Arizona Artists Guild
REFRESH-INTERVAL;VALUE=DURATION:PT1H
X-Robots-Tag:noindex
X-PUBLISHED-TTL:PT1H
BEGIN:VTIMEZONE
TZID:America/Phoenix
BEGIN:STANDARD
TZOFFSETFROM:-0700
TZOFFSETTO:-0700
TZNAME:MST
DTSTART:20240101T000000
END:STANDARD
END:VTIMEZONE
BEGIN:VEVENT
DTSTART;VALUE=DATE:20250414
DTEND;VALUE=DATE:20250520
DTSTAMP:20260423T010541
CREATED:20240210T233639Z
LAST-MODIFIED:20250124T215122Z
UID:10004328-1744588800-1747699199@arizonaartistsguild.net
SUMMARY:AAG Spring Exhibition
DESCRIPTION:
URL:https://arizonaartistsguild.net/events/2025-aag-spring-exhibition/
LOCATION:Arizona Artists Guild\, 18411 N. 7th Avenue\, Phoenix\, AZ\, 85023\, United States
CATEGORIES:exhibitions
END:VEVENT
BEGIN:VEVENT
DTSTART;TZID=America/Phoenix:20250510T100000
DTEND;TZID=America/Phoenix:20250510T150000
DTSTAMP:20260423T010541
CREATED:20241009T175222Z
LAST-MODIFIED:20250425T211309Z
UID:10005366-1746871200-1746889200@arizonaartistsguild.net
SUMMARY:Sky & Waterscapes with Carol Lei Bendell
DESCRIPTION:
URL:https://arizonaartistsguild.net/events/skyscapes-with-carol-lei-bendell/
LOCATION:Arizona Artists Guild\, 18411 N. 7th Avenue\, Phoenix\, AZ\, 85023\, United States
CATEGORIES:AAG Workshops
END:VEVENT
END:VCALENDAR